BEGIN:VCALENDAR
VERSION:2.0
PRODID:-//Parkhills Baptist Church - ECPv6.15.12.2//NONSGML v1.0//EN
CALSCALE:GREGORIAN
METHOD:PUBLISH
X-WR-CALNAME:Parkhills Baptist Church
X-ORIGINAL-URL:https://parkhills.org
X-WR-CALDESC:Events for Parkhills Baptist Church
REFRESH-INTERVAL;VALUE=DURATION:PT1H
X-Robots-Tag:noindex
X-PUBLISHED-TTL:PT1H
BEGIN:VTIMEZONE
TZID:UTC
BEGIN:STANDARD
TZOFFSETFROM:+0000
TZOFFSETTO:+0000
TZNAME:UTC
DTSTART:20270101T000000
END:STANDARD
END:VTIMEZONE
BEGIN:VEVENT
DTSTART;TZID=UTC:20280302T103000
DTEND;TZID=UTC:20280302T120000
DTSTAMP:20260425T203906
CREATED:20251023T150526Z
LAST-MODIFIED:20251023T150528Z
UID:10001188-1835605800-1835611200@parkhills.org
SUMMARY:Young At Heart (55+)
DESCRIPTION:Every Thursday @ 10:30 AM in Room 104 (Bible Study)\nOther activities may include luncheons and “game days”\, tours in adjacent cities\, and touring local attractions.
URL:https://parkhills.org/eventcalendar/young-at-heart-2-2/2028-03-02/
LOCATION:Parkhills Baptist Church\, 17747 San Pedro Ave\, San Antonio\, TX\, 78232
CATEGORIES:Adults
END:VEVENT
BEGIN:VEVENT
DTSTART;TZID=UTC:20280309T103000
DTEND;TZID=UTC:20280309T120000
DTSTAMP:20260425T203906
CREATED:20251023T150526Z
LAST-MODIFIED:20251023T150528Z
UID:10001189-1836210600-1836216000@parkhills.org
SUMMARY:Young At Heart (55+)
DESCRIPTION:Every Thursday @ 10:30 AM in Room 104 (Bible Study)\nOther activities may include luncheons and “game days”\, tours in adjacent cities\, and touring local attractions.
URL:https://parkhills.org/eventcalendar/young-at-heart-2-2/2028-03-09/
LOCATION:Parkhills Baptist Church\, 17747 San Pedro Ave\, San Antonio\, TX\, 78232
CATEGORIES:Adults
END:VEVENT
BEGIN:VEVENT
DTSTART;TZID=UTC:20280316T103000
DTEND;TZID=UTC:20280316T120000
DTSTAMP:20260425T203906
CREATED:20251023T150526Z
LAST-MODIFIED:20251023T150528Z
UID:10001190-1836815400-1836820800@parkhills.org
SUMMARY:Young At Heart (55+)
DESCRIPTION:Every Thursday @ 10:30 AM in Room 104 (Bible Study)\nOther activities may include luncheons and “game days”\, tours in adjacent cities\, and touring local attractions.
URL:https://parkhills.org/eventcalendar/young-at-heart-2-2/2028-03-16/
LOCATION:Parkhills Baptist Church\, 17747 San Pedro Ave\, San Antonio\, TX\, 78232
CATEGORIES:Adults
END:VEVENT
BEGIN:VEVENT
DTSTART;TZID=UTC:20280323T103000
DTEND;TZID=UTC:20280323T120000
DTSTAMP:20260425T203906
CREATED:20251023T150526Z
LAST-MODIFIED:20251023T150528Z
UID:10001191-1837420200-1837425600@parkhills.org
SUMMARY:Young At Heart (55+)
DESCRIPTION:Every Thursday @ 10:30 AM in Room 104 (Bible Study)\nOther activities may include luncheons and “game days”\, tours in adjacent cities\, and touring local attractions.
URL:https://parkhills.org/eventcalendar/young-at-heart-2-2/2028-03-23/
LOCATION:Parkhills Baptist Church\, 17747 San Pedro Ave\, San Antonio\, TX\, 78232
CATEGORIES:Adults
END:VEVENT
BEGIN:VEVENT
DTSTART;TZID=UTC:20280330T103000
DTEND;TZID=UTC:20280330T120000
DTSTAMP:20260425T203906
CREATED:20251023T150526Z
LAST-MODIFIED:20251023T150528Z
UID:10001192-1838025000-1838030400@parkhills.org
SUMMARY:Young At Heart (55+)
DESCRIPTION:Every Thursday @ 10:30 AM in Room 104 (Bible Study)\nOther activities may include luncheons and “game days”\, tours in adjacent cities\, and touring local attractions.
URL:https://parkhills.org/eventcalendar/young-at-heart-2-2/2028-03-30/
LOCATION:Parkhills Baptist Church\, 17747 San Pedro Ave\, San Antonio\, TX\, 78232
CATEGORIES:Adults
END:VEVENT
BEGIN:VEVENT
DTSTART;TZID=UTC:20280406T103000
DTEND;TZID=UTC:20280406T120000
DTSTAMP:20260425T203906
CREATED:20251023T150526Z
LAST-MODIFIED:20251023T150528Z
UID:10001193-1838629800-1838635200@parkhills.org
SUMMARY:Young At Heart (55+)
DESCRIPTION:Every Thursday @ 10:30 AM in Room 104 (Bible Study)\nOther activities may include luncheons and “game days”\, tours in adjacent cities\, and touring local attractions.
URL:https://parkhills.org/eventcalendar/young-at-heart-2-2/2028-04-06/
LOCATION:Parkhills Baptist Church\, 17747 San Pedro Ave\, San Antonio\, TX\, 78232
CATEGORIES:Adults
END:VEVENT
BEGIN:VEVENT
DTSTART;TZID=UTC:20280413T103000
DTEND;TZID=UTC:20280413T120000
DTSTAMP:20260425T203906
CREATED:20251023T150526Z
LAST-MODIFIED:20251023T150528Z
UID:10001194-1839234600-1839240000@parkhills.org
SUMMARY:Young At Heart (55+)
DESCRIPTION:Every Thursday @ 10:30 AM in Room 104 (Bible Study)\nOther activities may include luncheons and “game days”\, tours in adjacent cities\, and touring local attractions.
URL:https://parkhills.org/eventcalendar/young-at-heart-2-2/2028-04-13/
LOCATION:Parkhills Baptist Church\, 17747 San Pedro Ave\, San Antonio\, TX\, 78232
CATEGORIES:Adults
END:VEVENT
BEGIN:VEVENT
DTSTART;TZID=UTC:20280420T103000
DTEND;TZID=UTC:20280420T120000
DTSTAMP:20260425T203906
CREATED:20251023T150526Z
LAST-MODIFIED:20251023T150528Z
UID:10001195-1839839400-1839844800@parkhills.org
SUMMARY:Young At Heart (55+)
DESCRIPTION:Every Thursday @ 10:30 AM in Room 104 (Bible Study)\nOther activities may include luncheons and “game days”\, tours in adjacent cities\, and touring local attractions.
URL:https://parkhills.org/eventcalendar/young-at-heart-2-2/2028-04-20/
LOCATION:Parkhills Baptist Church\, 17747 San Pedro Ave\, San Antonio\, TX\, 78232
CATEGORIES:Adults
END:VEVENT
BEGIN:VEVENT
DTSTART;TZID=UTC:20280427T103000
DTEND;TZID=UTC:20280427T120000
DTSTAMP:20260425T203906
CREATED:20251023T150526Z
LAST-MODIFIED:20251023T150528Z
UID:10001196-1840444200-1840449600@parkhills.org
SUMMARY:Young At Heart (55+)
DESCRIPTION:Every Thursday @ 10:30 AM in Room 104 (Bible Study)\nOther activities may include luncheons and “game days”\, tours in adjacent cities\, and touring local attractions.
URL:https://parkhills.org/eventcalendar/young-at-heart-2-2/2028-04-27/
LOCATION:Parkhills Baptist Church\, 17747 San Pedro Ave\, San Antonio\, TX\, 78232
CATEGORIES:Adults
END:VEVENT
BEGIN:VEVENT
DTSTART;TZID=UTC:20280504T103000
DTEND;TZID=UTC:20280504T120000
DTSTAMP:20260425T203906
CREATED:20251023T150526Z
LAST-MODIFIED:20251023T150528Z
UID:10001197-1841049000-1841054400@parkhills.org
SUMMARY:Young At Heart (55+)
DESCRIPTION:Every Thursday @ 10:30 AM in Room 104 (Bible Study)\nOther activities may include luncheons and “game days”\, tours in adjacent cities\, and touring local attractions.
URL:https://parkhills.org/eventcalendar/young-at-heart-2-2/2028-05-04/
LOCATION:Parkhills Baptist Church\, 17747 San Pedro Ave\, San Antonio\, TX\, 78232
CATEGORIES:Adults
END:VEVENT
BEGIN:VEVENT
DTSTART;TZID=UTC:20280511T103000
DTEND;TZID=UTC:20280511T120000
DTSTAMP:20260425T203906
CREATED:20251023T150526Z
LAST-MODIFIED:20251023T150528Z
UID:10001198-1841653800-1841659200@parkhills.org
SUMMARY:Young At Heart (55+)
DESCRIPTION:Every Thursday @ 10:30 AM in Room 104 (Bible Study)\nOther activities may include luncheons and “game days”\, tours in adjacent cities\, and touring local attractions.
URL:https://parkhills.org/eventcalendar/young-at-heart-2-2/2028-05-11/
LOCATION:Parkhills Baptist Church\, 17747 San Pedro Ave\, San Antonio\, TX\, 78232
CATEGORIES:Adults
END:VEVENT
BEGIN:VEVENT
DTSTART;TZID=UTC:20280518T103000
DTEND;TZID=UTC:20280518T120000
DTSTAMP:20260425T203906
CREATED:20251023T150526Z
LAST-MODIFIED:20251023T150528Z
UID:10001199-1842258600-1842264000@parkhills.org
SUMMARY:Young At Heart (55+)
DESCRIPTION:Every Thursday @ 10:30 AM in Room 104 (Bible Study)\nOther activities may include luncheons and “game days”\, tours in adjacent cities\, and touring local attractions.
URL:https://parkhills.org/eventcalendar/young-at-heart-2-2/2028-05-18/
LOCATION:Parkhills Baptist Church\, 17747 San Pedro Ave\, San Antonio\, TX\, 78232
CATEGORIES:Adults
END:VEVENT
BEGIN:VEVENT
DTSTART;TZID=UTC:20280525T103000
DTEND;TZID=UTC:20280525T120000
DTSTAMP:20260425T203906
CREATED:20251023T150526Z
LAST-MODIFIED:20251023T150528Z
UID:10001200-1842863400-1842868800@parkhills.org
SUMMARY:Young At Heart (55+)
DESCRIPTION:Every Thursday @ 10:30 AM in Room 104 (Bible Study)\nOther activities may include luncheons and “game days”\, tours in adjacent cities\, and touring local attractions.
URL:https://parkhills.org/eventcalendar/young-at-heart-2-2/2028-05-25/
LOCATION:Parkhills Baptist Church\, 17747 San Pedro Ave\, San Antonio\, TX\, 78232
CATEGORIES:Adults
END:VEVENT
BEGIN:VEVENT
DTSTART;TZID=UTC:20280601T103000
DTEND;TZID=UTC:20280601T120000
DTSTAMP:20260425T203906
CREATED:20251023T150526Z
LAST-MODIFIED:20251023T150528Z
UID:10001201-1843468200-1843473600@parkhills.org
SUMMARY:Young At Heart (55+)
DESCRIPTION:Every Thursday @ 10:30 AM in Room 104 (Bible Study)\nOther activities may include luncheons and “game days”\, tours in adjacent cities\, and touring local attractions.
URL:https://parkhills.org/eventcalendar/young-at-heart-2-2/2028-06-01/
LOCATION:Parkhills Baptist Church\, 17747 San Pedro Ave\, San Antonio\, TX\, 78232
CATEGORIES:Adults
END:VEVENT
BEGIN:VEVENT
DTSTART;TZID=UTC:20280608T103000
DTEND;TZID=UTC:20280608T120000
DTSTAMP:20260425T203906
CREATED:20251023T150526Z
LAST-MODIFIED:20251023T150528Z
UID:10001202-1844073000-1844078400@parkhills.org
SUMMARY:Young At Heart (55+)
DESCRIPTION:Every Thursday @ 10:30 AM in Room 104 (Bible Study)\nOther activities may include luncheons and “game days”\, tours in adjacent cities\, and touring local attractions.
URL:https://parkhills.org/eventcalendar/young-at-heart-2-2/2028-06-08/
LOCATION:Parkhills Baptist Church\, 17747 San Pedro Ave\, San Antonio\, TX\, 78232
CATEGORIES:Adults
END:VEVENT
BEGIN:VEVENT
DTSTART;TZID=UTC:20280615T103000
DTEND;TZID=UTC:20280615T120000
DTSTAMP:20260425T203906
CREATED:20251023T150526Z
LAST-MODIFIED:20251023T150528Z
UID:10001203-1844677800-1844683200@parkhills.org
SUMMARY:Young At Heart (55+)
DESCRIPTION:Every Thursday @ 10:30 AM in Room 104 (Bible Study)\nOther activities may include luncheons and “game days”\, tours in adjacent cities\, and touring local attractions.
URL:https://parkhills.org/eventcalendar/young-at-heart-2-2/2028-06-15/
LOCATION:Parkhills Baptist Church\, 17747 San Pedro Ave\, San Antonio\, TX\, 78232
CATEGORIES:Adults
END:VEVENT
BEGIN:VEVENT
DTSTART;TZID=UTC:20280622T103000
DTEND;TZID=UTC:20280622T120000
DTSTAMP:20260425T203906
CREATED:20251023T150526Z
LAST-MODIFIED:20251023T150528Z
UID:10001204-1845282600-1845288000@parkhills.org
SUMMARY:Young At Heart (55+)
DESCRIPTION:Every Thursday @ 10:30 AM in Room 104 (Bible Study)\nOther activities may include luncheons and “game days”\, tours in adjacent cities\, and touring local attractions.
URL:https://parkhills.org/eventcalendar/young-at-heart-2-2/2028-06-22/
LOCATION:Parkhills Baptist Church\, 17747 San Pedro Ave\, San Antonio\, TX\, 78232
CATEGORIES:Adults
END:VEVENT
BEGIN:VEVENT
DTSTART;TZID=UTC:20280629T103000
DTEND;TZID=UTC:20280629T120000
DTSTAMP:20260425T203906
CREATED:20251023T150526Z
LAST-MODIFIED:20251023T150528Z
UID:10001205-1845887400-1845892800@parkhills.org
SUMMARY:Young At Heart (55+)
DESCRIPTION:Every Thursday @ 10:30 AM in Room 104 (Bible Study)\nOther activities may include luncheons and “game days”\, tours in adjacent cities\, and touring local attractions.
URL:https://parkhills.org/eventcalendar/young-at-heart-2-2/2028-06-29/
LOCATION:Parkhills Baptist Church\, 17747 San Pedro Ave\, San Antonio\, TX\, 78232
CATEGORIES:Adults
END:VEVENT
BEGIN:VEVENT
DTSTART;TZID=UTC:20280706T103000
DTEND;TZID=UTC:20280706T120000
DTSTAMP:20260425T203906
CREATED:20251023T150526Z
LAST-MODIFIED:20251023T150528Z
UID:10001206-1846492200-1846497600@parkhills.org
SUMMARY:Young At Heart (55+)
DESCRIPTION:Every Thursday @ 10:30 AM in Room 104 (Bible Study)\nOther activities may include luncheons and “game days”\, tours in adjacent cities\, and touring local attractions.
URL:https://parkhills.org/eventcalendar/young-at-heart-2-2/2028-07-06/
LOCATION:Parkhills Baptist Church\, 17747 San Pedro Ave\, San Antonio\, TX\, 78232
CATEGORIES:Adults
END:VEVENT
BEGIN:VEVENT
DTSTART;TZID=UTC:20280713T103000
DTEND;TZID=UTC:20280713T120000
DTSTAMP:20260425T203906
CREATED:20251023T150526Z
LAST-MODIFIED:20251023T150528Z
UID:10001207-1847097000-1847102400@parkhills.org
SUMMARY:Young At Heart (55+)
DESCRIPTION:Every Thursday @ 10:30 AM in Room 104 (Bible Study)\nOther activities may include luncheons and “game days”\, tours in adjacent cities\, and touring local attractions.
URL:https://parkhills.org/eventcalendar/young-at-heart-2-2/2028-07-13/
LOCATION:Parkhills Baptist Church\, 17747 San Pedro Ave\, San Antonio\, TX\, 78232
CATEGORIES:Adults
END:VEVENT
BEGIN:VEVENT
DTSTART;TZID=UTC:20280720T103000
DTEND;TZID=UTC:20280720T120000
DTSTAMP:20260425T203906
CREATED:20251023T150526Z
LAST-MODIFIED:20251023T150528Z
UID:10001208-1847701800-1847707200@parkhills.org
SUMMARY:Young At Heart (55+)
DESCRIPTION:Every Thursday @ 10:30 AM in Room 104 (Bible Study)\nOther activities may include luncheons and “game days”\, tours in adjacent cities\, and touring local attractions.
URL:https://parkhills.org/eventcalendar/young-at-heart-2-2/2028-07-20/
LOCATION:Parkhills Baptist Church\, 17747 San Pedro Ave\, San Antonio\, TX\, 78232
CATEGORIES:Adults
END:VEVENT
BEGIN:VEVENT
DTSTART;TZID=UTC:20280727T103000
DTEND;TZID=UTC:20280727T120000
DTSTAMP:20260425T203907
CREATED:20251023T150526Z
LAST-MODIFIED:20251023T150528Z
UID:10001209-1848306600-1848312000@parkhills.org
SUMMARY:Young At Heart (55+)
DESCRIPTION:Every Thursday @ 10:30 AM in Room 104 (Bible Study)\nOther activities may include luncheons and “game days”\, tours in adjacent cities\, and touring local attractions.
URL:https://parkhills.org/eventcalendar/young-at-heart-2-2/2028-07-27/
LOCATION:Parkhills Baptist Church\, 17747 San Pedro Ave\, San Antonio\, TX\, 78232
CATEGORIES:Adults
END:VEVENT
BEGIN:VEVENT
DTSTART;TZID=UTC:20280803T103000
DTEND;TZID=UTC:20280803T120000
DTSTAMP:20260425T203907
CREATED:20251023T150526Z
LAST-MODIFIED:20251023T150528Z
UID:10001210-1848911400-1848916800@parkhills.org
SUMMARY:Young At Heart (55+)
DESCRIPTION:Every Thursday @ 10:30 AM in Room 104 (Bible Study)\nOther activities may include luncheons and “game days”\, tours in adjacent cities\, and touring local attractions.
URL:https://parkhills.org/eventcalendar/young-at-heart-2-2/2028-08-03/
LOCATION:Parkhills Baptist Church\, 17747 San Pedro Ave\, San Antonio\, TX\, 78232
CATEGORIES:Adults
END:VEVENT
BEGIN:VEVENT
DTSTART;TZID=UTC:20280810T103000
DTEND;TZID=UTC:20280810T120000
DTSTAMP:20260425T203907
CREATED:20251023T150526Z
LAST-MODIFIED:20251023T150528Z
UID:10001211-1849516200-1849521600@parkhills.org
SUMMARY:Young At Heart (55+)
DESCRIPTION:Every Thursday @ 10:30 AM in Room 104 (Bible Study)\nOther activities may include luncheons and “game days”\, tours in adjacent cities\, and touring local attractions.
URL:https://parkhills.org/eventcalendar/young-at-heart-2-2/2028-08-10/
LOCATION:Parkhills Baptist Church\, 17747 San Pedro Ave\, San Antonio\, TX\, 78232
CATEGORIES:Adults
END:VEVENT
BEGIN:VEVENT
DTSTART;TZID=UTC:20280817T103000
DTEND;TZID=UTC:20280817T120000
DTSTAMP:20260425T203907
CREATED:20251023T150526Z
LAST-MODIFIED:20251023T150528Z
UID:10001212-1850121000-1850126400@parkhills.org
SUMMARY:Young At Heart (55+)
DESCRIPTION:Every Thursday @ 10:30 AM in Room 104 (Bible Study)\nOther activities may include luncheons and “game days”\, tours in adjacent cities\, and touring local attractions.
URL:https://parkhills.org/eventcalendar/young-at-heart-2-2/2028-08-17/
LOCATION:Parkhills Baptist Church\, 17747 San Pedro Ave\, San Antonio\, TX\, 78232
CATEGORIES:Adults
END:VEVENT
BEGIN:VEVENT
DTSTART;TZID=UTC:20280824T103000
DTEND;TZID=UTC:20280824T120000
DTSTAMP:20260425T203907
CREATED:20251023T150526Z
LAST-MODIFIED:20251023T150528Z
UID:10001213-1850725800-1850731200@parkhills.org
SUMMARY:Young At Heart (55+)
DESCRIPTION:Every Thursday @ 10:30 AM in Room 104 (Bible Study)\nOther activities may include luncheons and “game days”\, tours in adjacent cities\, and touring local attractions.
URL:https://parkhills.org/eventcalendar/young-at-heart-2-2/2028-08-24/
LOCATION:Parkhills Baptist Church\, 17747 San Pedro Ave\, San Antonio\, TX\, 78232
CATEGORIES:Adults
END:VEVENT
BEGIN:VEVENT
DTSTART;TZID=UTC:20280831T103000
DTEND;TZID=UTC:20280831T120000
DTSTAMP:20260425T203907
CREATED:20251023T150526Z
LAST-MODIFIED:20251023T150528Z
UID:10001214-1851330600-1851336000@parkhills.org
SUMMARY:Young At Heart (55+)
DESCRIPTION:Every Thursday @ 10:30 AM in Room 104 (Bible Study)\nOther activities may include luncheons and “game days”\, tours in adjacent cities\, and touring local attractions.
URL:https://parkhills.org/eventcalendar/young-at-heart-2-2/2028-08-31/
LOCATION:Parkhills Baptist Church\, 17747 San Pedro Ave\, San Antonio\, TX\, 78232
CATEGORIES:Adults
END:VEVENT
BEGIN:VEVENT
DTSTART;TZID=UTC:20280907T103000
DTEND;TZID=UTC:20280907T120000
DTSTAMP:20260425T203907
CREATED:20251023T150526Z
LAST-MODIFIED:20251023T150528Z
UID:10001215-1851935400-1851940800@parkhills.org
SUMMARY:Young At Heart (55+)
DESCRIPTION:Every Thursday @ 10:30 AM in Room 104 (Bible Study)\nOther activities may include luncheons and “game days”\, tours in adjacent cities\, and touring local attractions.
URL:https://parkhills.org/eventcalendar/young-at-heart-2-2/2028-09-07/
LOCATION:Parkhills Baptist Church\, 17747 San Pedro Ave\, San Antonio\, TX\, 78232
CATEGORIES:Adults
END:VEVENT
BEGIN:VEVENT
DTSTART;TZID=UTC:20280914T103000
DTEND;TZID=UTC:20280914T120000
DTSTAMP:20260425T203907
CREATED:20251023T150526Z
LAST-MODIFIED:20251023T150528Z
UID:10001216-1852540200-1852545600@parkhills.org
SUMMARY:Young At Heart (55+)
DESCRIPTION:Every Thursday @ 10:30 AM in Room 104 (Bible Study)\nOther activities may include luncheons and “game days”\, tours in adjacent cities\, and touring local attractions.
URL:https://parkhills.org/eventcalendar/young-at-heart-2-2/2028-09-14/
LOCATION:Parkhills Baptist Church\, 17747 San Pedro Ave\, San Antonio\, TX\, 78232
CATEGORIES:Adults
END:VEVENT
BEGIN:VEVENT
DTSTART;TZID=UTC:20280921T103000
DTEND;TZID=UTC:20280921T120000
DTSTAMP:20260425T203907
CREATED:20251023T150526Z
LAST-MODIFIED:20251023T150528Z
UID:10001217-1853145000-1853150400@parkhills.org
SUMMARY:Young At Heart (55+)
DESCRIPTION:Every Thursday @ 10:30 AM in Room 104 (Bible Study)\nOther activities may include luncheons and “game days”\, tours in adjacent cities\, and touring local attractions.
URL:https://parkhills.org/eventcalendar/young-at-heart-2-2/2028-09-21/
LOCATION:Parkhills Baptist Church\, 17747 San Pedro Ave\, San Antonio\, TX\, 78232
CATEGORIES:Adults
END:VEVENT
END:VCALENDAR