BEGIN:VCALENDAR
VERSION:2.0
PRODID:-//Parkhills Baptist Church - ECPv6.15.12.2//NONSGML v1.0//EN
CALSCALE:GREGORIAN
METHOD:PUBLISH
X-WR-CALNAME:Parkhills Baptist Church
X-ORIGINAL-URL:https://parkhills.org
X-WR-CALDESC:Events for Parkhills Baptist Church
REFRESH-INTERVAL;VALUE=DURATION:PT1H
X-Robots-Tag:noindex
X-PUBLISHED-TTL:PT1H
BEGIN:VTIMEZONE
TZID:UTC
BEGIN:STANDARD
TZOFFSETFROM:+0000
TZOFFSETTO:+0000
TZNAME:UTC
DTSTART:20260101T000000
END:STANDARD
END:VTIMEZONE
BEGIN:VEVENT
DTSTART;TZID=UTC:20270916T103000
DTEND;TZID=UTC:20270916T120000
DTSTAMP:20260425T173937
CREATED:20251023T150526Z
LAST-MODIFIED:20251023T150528Z
UID:10001164-1821090600-1821096000@parkhills.org
SUMMARY:Young At Heart (55+)
DESCRIPTION:Every Thursday @ 10:30 AM in Room 104 (Bible Study)\nOther activities may include luncheons and “game days”\, tours in adjacent cities\, and touring local attractions.
URL:https://parkhills.org/eventcalendar/young-at-heart-2-2/2027-09-16/
LOCATION:Parkhills Baptist Church\, 17747 San Pedro Ave\, San Antonio\, TX\, 78232
CATEGORIES:Adults
END:VEVENT
BEGIN:VEVENT
DTSTART;TZID=UTC:20270923T103000
DTEND;TZID=UTC:20270923T120000
DTSTAMP:20260425T173937
CREATED:20251023T150526Z
LAST-MODIFIED:20251023T150528Z
UID:10001165-1821695400-1821700800@parkhills.org
SUMMARY:Young At Heart (55+)
DESCRIPTION:Every Thursday @ 10:30 AM in Room 104 (Bible Study)\nOther activities may include luncheons and “game days”\, tours in adjacent cities\, and touring local attractions.
URL:https://parkhills.org/eventcalendar/young-at-heart-2-2/2027-09-23/
LOCATION:Parkhills Baptist Church\, 17747 San Pedro Ave\, San Antonio\, TX\, 78232
CATEGORIES:Adults
END:VEVENT
BEGIN:VEVENT
DTSTART;TZID=UTC:20270930T103000
DTEND;TZID=UTC:20270930T120000
DTSTAMP:20260425T173937
CREATED:20251023T150526Z
LAST-MODIFIED:20251023T150528Z
UID:10001166-1822300200-1822305600@parkhills.org
SUMMARY:Young At Heart (55+)
DESCRIPTION:Every Thursday @ 10:30 AM in Room 104 (Bible Study)\nOther activities may include luncheons and “game days”\, tours in adjacent cities\, and touring local attractions.
URL:https://parkhills.org/eventcalendar/young-at-heart-2-2/2027-09-30/
LOCATION:Parkhills Baptist Church\, 17747 San Pedro Ave\, San Antonio\, TX\, 78232
CATEGORIES:Adults
END:VEVENT
BEGIN:VEVENT
DTSTART;TZID=UTC:20271007T103000
DTEND;TZID=UTC:20271007T120000
DTSTAMP:20260425T173937
CREATED:20251023T150526Z
LAST-MODIFIED:20251023T150528Z
UID:10001167-1822905000-1822910400@parkhills.org
SUMMARY:Young At Heart (55+)
DESCRIPTION:Every Thursday @ 10:30 AM in Room 104 (Bible Study)\nOther activities may include luncheons and “game days”\, tours in adjacent cities\, and touring local attractions.
URL:https://parkhills.org/eventcalendar/young-at-heart-2-2/2027-10-07/
LOCATION:Parkhills Baptist Church\, 17747 San Pedro Ave\, San Antonio\, TX\, 78232
CATEGORIES:Adults
END:VEVENT
BEGIN:VEVENT
DTSTART;TZID=UTC:20271014T103000
DTEND;TZID=UTC:20271014T120000
DTSTAMP:20260425T173937
CREATED:20251023T150526Z
LAST-MODIFIED:20251023T150528Z
UID:10001168-1823509800-1823515200@parkhills.org
SUMMARY:Young At Heart (55+)
DESCRIPTION:Every Thursday @ 10:30 AM in Room 104 (Bible Study)\nOther activities may include luncheons and “game days”\, tours in adjacent cities\, and touring local attractions.
URL:https://parkhills.org/eventcalendar/young-at-heart-2-2/2027-10-14/
LOCATION:Parkhills Baptist Church\, 17747 San Pedro Ave\, San Antonio\, TX\, 78232
CATEGORIES:Adults
END:VEVENT
BEGIN:VEVENT
DTSTART;TZID=UTC:20271021T103000
DTEND;TZID=UTC:20271021T120000
DTSTAMP:20260425T173937
CREATED:20251023T150526Z
LAST-MODIFIED:20251023T150528Z
UID:10001169-1824114600-1824120000@parkhills.org
SUMMARY:Young At Heart (55+)
DESCRIPTION:Every Thursday @ 10:30 AM in Room 104 (Bible Study)\nOther activities may include luncheons and “game days”\, tours in adjacent cities\, and touring local attractions.
URL:https://parkhills.org/eventcalendar/young-at-heart-2-2/2027-10-21/
LOCATION:Parkhills Baptist Church\, 17747 San Pedro Ave\, San Antonio\, TX\, 78232
CATEGORIES:Adults
END:VEVENT
BEGIN:VEVENT
DTSTART;TZID=UTC:20271028T103000
DTEND;TZID=UTC:20271028T120000
DTSTAMP:20260425T173937
CREATED:20251023T150526Z
LAST-MODIFIED:20251023T150528Z
UID:10001170-1824719400-1824724800@parkhills.org
SUMMARY:Young At Heart (55+)
DESCRIPTION:Every Thursday @ 10:30 AM in Room 104 (Bible Study)\nOther activities may include luncheons and “game days”\, tours in adjacent cities\, and touring local attractions.
URL:https://parkhills.org/eventcalendar/young-at-heart-2-2/2027-10-28/
LOCATION:Parkhills Baptist Church\, 17747 San Pedro Ave\, San Antonio\, TX\, 78232
CATEGORIES:Adults
END:VEVENT
BEGIN:VEVENT
DTSTART;TZID=UTC:20271104T103000
DTEND;TZID=UTC:20271104T120000
DTSTAMP:20260425T173937
CREATED:20251023T150526Z
LAST-MODIFIED:20251023T150528Z
UID:10001171-1825324200-1825329600@parkhills.org
SUMMARY:Young At Heart (55+)
DESCRIPTION:Every Thursday @ 10:30 AM in Room 104 (Bible Study)\nOther activities may include luncheons and “game days”\, tours in adjacent cities\, and touring local attractions.
URL:https://parkhills.org/eventcalendar/young-at-heart-2-2/2027-11-04/
LOCATION:Parkhills Baptist Church\, 17747 San Pedro Ave\, San Antonio\, TX\, 78232
CATEGORIES:Adults
END:VEVENT
BEGIN:VEVENT
DTSTART;TZID=UTC:20271111T103000
DTEND;TZID=UTC:20271111T120000
DTSTAMP:20260425T173937
CREATED:20251023T150526Z
LAST-MODIFIED:20251023T150528Z
UID:10001172-1825929000-1825934400@parkhills.org
SUMMARY:Young At Heart (55+)
DESCRIPTION:Every Thursday @ 10:30 AM in Room 104 (Bible Study)\nOther activities may include luncheons and “game days”\, tours in adjacent cities\, and touring local attractions.
URL:https://parkhills.org/eventcalendar/young-at-heart-2-2/2027-11-11/
LOCATION:Parkhills Baptist Church\, 17747 San Pedro Ave\, San Antonio\, TX\, 78232
CATEGORIES:Adults
END:VEVENT
BEGIN:VEVENT
DTSTART;TZID=UTC:20271118T103000
DTEND;TZID=UTC:20271118T120000
DTSTAMP:20260425T173937
CREATED:20251023T150526Z
LAST-MODIFIED:20251023T150528Z
UID:10001173-1826533800-1826539200@parkhills.org
SUMMARY:Young At Heart (55+)
DESCRIPTION:Every Thursday @ 10:30 AM in Room 104 (Bible Study)\nOther activities may include luncheons and “game days”\, tours in adjacent cities\, and touring local attractions.
URL:https://parkhills.org/eventcalendar/young-at-heart-2-2/2027-11-18/
LOCATION:Parkhills Baptist Church\, 17747 San Pedro Ave\, San Antonio\, TX\, 78232
CATEGORIES:Adults
END:VEVENT
BEGIN:VEVENT
DTSTART;TZID=UTC:20271125T103000
DTEND;TZID=UTC:20271125T120000
DTSTAMP:20260425T173937
CREATED:20251023T150526Z
LAST-MODIFIED:20251023T150528Z
UID:10001174-1827138600-1827144000@parkhills.org
SUMMARY:Young At Heart (55+)
DESCRIPTION:Every Thursday @ 10:30 AM in Room 104 (Bible Study)\nOther activities may include luncheons and “game days”\, tours in adjacent cities\, and touring local attractions.
URL:https://parkhills.org/eventcalendar/young-at-heart-2-2/2027-11-25/
LOCATION:Parkhills Baptist Church\, 17747 San Pedro Ave\, San Antonio\, TX\, 78232
CATEGORIES:Adults
END:VEVENT
BEGIN:VEVENT
DTSTART;TZID=UTC:20271202T103000
DTEND;TZID=UTC:20271202T120000
DTSTAMP:20260425T173937
CREATED:20251023T150526Z
LAST-MODIFIED:20251023T150528Z
UID:10001175-1827743400-1827748800@parkhills.org
SUMMARY:Young At Heart (55+)
DESCRIPTION:Every Thursday @ 10:30 AM in Room 104 (Bible Study)\nOther activities may include luncheons and “game days”\, tours in adjacent cities\, and touring local attractions.
URL:https://parkhills.org/eventcalendar/young-at-heart-2-2/2027-12-02/
LOCATION:Parkhills Baptist Church\, 17747 San Pedro Ave\, San Antonio\, TX\, 78232
CATEGORIES:Adults
END:VEVENT
BEGIN:VEVENT
DTSTART;TZID=UTC:20271209T103000
DTEND;TZID=UTC:20271209T120000
DTSTAMP:20260425T173937
CREATED:20251023T150526Z
LAST-MODIFIED:20251023T150528Z
UID:10001176-1828348200-1828353600@parkhills.org
SUMMARY:Young At Heart (55+)
DESCRIPTION:Every Thursday @ 10:30 AM in Room 104 (Bible Study)\nOther activities may include luncheons and “game days”\, tours in adjacent cities\, and touring local attractions.
URL:https://parkhills.org/eventcalendar/young-at-heart-2-2/2027-12-09/
LOCATION:Parkhills Baptist Church\, 17747 San Pedro Ave\, San Antonio\, TX\, 78232
CATEGORIES:Adults
END:VEVENT
BEGIN:VEVENT
DTSTART;TZID=UTC:20271216T103000
DTEND;TZID=UTC:20271216T120000
DTSTAMP:20260425T173937
CREATED:20251023T150526Z
LAST-MODIFIED:20251023T150528Z
UID:10001177-1828953000-1828958400@parkhills.org
SUMMARY:Young At Heart (55+)
DESCRIPTION:Every Thursday @ 10:30 AM in Room 104 (Bible Study)\nOther activities may include luncheons and “game days”\, tours in adjacent cities\, and touring local attractions.
URL:https://parkhills.org/eventcalendar/young-at-heart-2-2/2027-12-16/
LOCATION:Parkhills Baptist Church\, 17747 San Pedro Ave\, San Antonio\, TX\, 78232
CATEGORIES:Adults
END:VEVENT
BEGIN:VEVENT
DTSTART;TZID=UTC:20271223T103000
DTEND;TZID=UTC:20271223T120000
DTSTAMP:20260425T173937
CREATED:20251023T150526Z
LAST-MODIFIED:20251023T150528Z
UID:10001178-1829557800-1829563200@parkhills.org
SUMMARY:Young At Heart (55+)
DESCRIPTION:Every Thursday @ 10:30 AM in Room 104 (Bible Study)\nOther activities may include luncheons and “game days”\, tours in adjacent cities\, and touring local attractions.
URL:https://parkhills.org/eventcalendar/young-at-heart-2-2/2027-12-23/
LOCATION:Parkhills Baptist Church\, 17747 San Pedro Ave\, San Antonio\, TX\, 78232
CATEGORIES:Adults
END:VEVENT
BEGIN:VEVENT
DTSTART;TZID=UTC:20271230T103000
DTEND;TZID=UTC:20271230T120000
DTSTAMP:20260425T173937
CREATED:20251023T150526Z
LAST-MODIFIED:20251023T150528Z
UID:10001179-1830162600-1830168000@parkhills.org
SUMMARY:Young At Heart (55+)
DESCRIPTION:Every Thursday @ 10:30 AM in Room 104 (Bible Study)\nOther activities may include luncheons and “game days”\, tours in adjacent cities\, and touring local attractions.
URL:https://parkhills.org/eventcalendar/young-at-heart-2-2/2027-12-30/
LOCATION:Parkhills Baptist Church\, 17747 San Pedro Ave\, San Antonio\, TX\, 78232
CATEGORIES:Adults
END:VEVENT
BEGIN:VEVENT
DTSTART;TZID=UTC:20280106T103000
DTEND;TZID=UTC:20280106T120000
DTSTAMP:20260425T173937
CREATED:20251023T150526Z
LAST-MODIFIED:20251023T150528Z
UID:10001180-1830767400-1830772800@parkhills.org
SUMMARY:Young At Heart (55+)
DESCRIPTION:Every Thursday @ 10:30 AM in Room 104 (Bible Study)\nOther activities may include luncheons and “game days”\, tours in adjacent cities\, and touring local attractions.
URL:https://parkhills.org/eventcalendar/young-at-heart-2-2/2028-01-06/
LOCATION:Parkhills Baptist Church\, 17747 San Pedro Ave\, San Antonio\, TX\, 78232
CATEGORIES:Adults
END:VEVENT
BEGIN:VEVENT
DTSTART;TZID=UTC:20280113T103000
DTEND;TZID=UTC:20280113T120000
DTSTAMP:20260425T173937
CREATED:20251023T150526Z
LAST-MODIFIED:20251023T150528Z
UID:10001181-1831372200-1831377600@parkhills.org
SUMMARY:Young At Heart (55+)
DESCRIPTION:Every Thursday @ 10:30 AM in Room 104 (Bible Study)\nOther activities may include luncheons and “game days”\, tours in adjacent cities\, and touring local attractions.
URL:https://parkhills.org/eventcalendar/young-at-heart-2-2/2028-01-13/
LOCATION:Parkhills Baptist Church\, 17747 San Pedro Ave\, San Antonio\, TX\, 78232
CATEGORIES:Adults
END:VEVENT
BEGIN:VEVENT
DTSTART;TZID=UTC:20280120T103000
DTEND;TZID=UTC:20280120T120000
DTSTAMP:20260425T173937
CREATED:20251023T150526Z
LAST-MODIFIED:20251023T150528Z
UID:10001182-1831977000-1831982400@parkhills.org
SUMMARY:Young At Heart (55+)
DESCRIPTION:Every Thursday @ 10:30 AM in Room 104 (Bible Study)\nOther activities may include luncheons and “game days”\, tours in adjacent cities\, and touring local attractions.
URL:https://parkhills.org/eventcalendar/young-at-heart-2-2/2028-01-20/
LOCATION:Parkhills Baptist Church\, 17747 San Pedro Ave\, San Antonio\, TX\, 78232
CATEGORIES:Adults
END:VEVENT
BEGIN:VEVENT
DTSTART;TZID=UTC:20280127T103000
DTEND;TZID=UTC:20280127T120000
DTSTAMP:20260425T173937
CREATED:20251023T150526Z
LAST-MODIFIED:20251023T150528Z
UID:10001183-1832581800-1832587200@parkhills.org
SUMMARY:Young At Heart (55+)
DESCRIPTION:Every Thursday @ 10:30 AM in Room 104 (Bible Study)\nOther activities may include luncheons and “game days”\, tours in adjacent cities\, and touring local attractions.
URL:https://parkhills.org/eventcalendar/young-at-heart-2-2/2028-01-27/
LOCATION:Parkhills Baptist Church\, 17747 San Pedro Ave\, San Antonio\, TX\, 78232
CATEGORIES:Adults
END:VEVENT
BEGIN:VEVENT
DTSTART;TZID=UTC:20280203T103000
DTEND;TZID=UTC:20280203T120000
DTSTAMP:20260425T173937
CREATED:20251023T150526Z
LAST-MODIFIED:20251023T150528Z
UID:10001184-1833186600-1833192000@parkhills.org
SUMMARY:Young At Heart (55+)
DESCRIPTION:Every Thursday @ 10:30 AM in Room 104 (Bible Study)\nOther activities may include luncheons and “game days”\, tours in adjacent cities\, and touring local attractions.
URL:https://parkhills.org/eventcalendar/young-at-heart-2-2/2028-02-03/
LOCATION:Parkhills Baptist Church\, 17747 San Pedro Ave\, San Antonio\, TX\, 78232
CATEGORIES:Adults
END:VEVENT
BEGIN:VEVENT
DTSTART;TZID=UTC:20280210T103000
DTEND;TZID=UTC:20280210T120000
DTSTAMP:20260425T173937
CREATED:20251023T150526Z
LAST-MODIFIED:20251023T150528Z
UID:10001185-1833791400-1833796800@parkhills.org
SUMMARY:Young At Heart (55+)
DESCRIPTION:Every Thursday @ 10:30 AM in Room 104 (Bible Study)\nOther activities may include luncheons and “game days”\, tours in adjacent cities\, and touring local attractions.
URL:https://parkhills.org/eventcalendar/young-at-heart-2-2/2028-02-10/
LOCATION:Parkhills Baptist Church\, 17747 San Pedro Ave\, San Antonio\, TX\, 78232
CATEGORIES:Adults
END:VEVENT
BEGIN:VEVENT
DTSTART;TZID=UTC:20280217T103000
DTEND;TZID=UTC:20280217T120000
DTSTAMP:20260425T173937
CREATED:20251023T150526Z
LAST-MODIFIED:20251023T150528Z
UID:10001186-1834396200-1834401600@parkhills.org
SUMMARY:Young At Heart (55+)
DESCRIPTION:Every Thursday @ 10:30 AM in Room 104 (Bible Study)\nOther activities may include luncheons and “game days”\, tours in adjacent cities\, and touring local attractions.
URL:https://parkhills.org/eventcalendar/young-at-heart-2-2/2028-02-17/
LOCATION:Parkhills Baptist Church\, 17747 San Pedro Ave\, San Antonio\, TX\, 78232
CATEGORIES:Adults
END:VEVENT
BEGIN:VEVENT
DTSTART;TZID=UTC:20280224T103000
DTEND;TZID=UTC:20280224T120000
DTSTAMP:20260425T173937
CREATED:20251023T150526Z
LAST-MODIFIED:20251023T150528Z
UID:10001187-1835001000-1835006400@parkhills.org
SUMMARY:Young At Heart (55+)
DESCRIPTION:Every Thursday @ 10:30 AM in Room 104 (Bible Study)\nOther activities may include luncheons and “game days”\, tours in adjacent cities\, and touring local attractions.
URL:https://parkhills.org/eventcalendar/young-at-heart-2-2/2028-02-24/
LOCATION:Parkhills Baptist Church\, 17747 San Pedro Ave\, San Antonio\, TX\, 78232
CATEGORIES:Adults
END:VEVENT
BEGIN:VEVENT
DTSTART;TZID=UTC:20280302T103000
DTEND;TZID=UTC:20280302T120000
DTSTAMP:20260425T173937
CREATED:20251023T150526Z
LAST-MODIFIED:20251023T150528Z
UID:10001188-1835605800-1835611200@parkhills.org
SUMMARY:Young At Heart (55+)
DESCRIPTION:Every Thursday @ 10:30 AM in Room 104 (Bible Study)\nOther activities may include luncheons and “game days”\, tours in adjacent cities\, and touring local attractions.
URL:https://parkhills.org/eventcalendar/young-at-heart-2-2/2028-03-02/
LOCATION:Parkhills Baptist Church\, 17747 San Pedro Ave\, San Antonio\, TX\, 78232
CATEGORIES:Adults
END:VEVENT
BEGIN:VEVENT
DTSTART;TZID=UTC:20280309T103000
DTEND;TZID=UTC:20280309T120000
DTSTAMP:20260425T173937
CREATED:20251023T150526Z
LAST-MODIFIED:20251023T150528Z
UID:10001189-1836210600-1836216000@parkhills.org
SUMMARY:Young At Heart (55+)
DESCRIPTION:Every Thursday @ 10:30 AM in Room 104 (Bible Study)\nOther activities may include luncheons and “game days”\, tours in adjacent cities\, and touring local attractions.
URL:https://parkhills.org/eventcalendar/young-at-heart-2-2/2028-03-09/
LOCATION:Parkhills Baptist Church\, 17747 San Pedro Ave\, San Antonio\, TX\, 78232
CATEGORIES:Adults
END:VEVENT
BEGIN:VEVENT
DTSTART;TZID=UTC:20280316T103000
DTEND;TZID=UTC:20280316T120000
DTSTAMP:20260425T173937
CREATED:20251023T150526Z
LAST-MODIFIED:20251023T150528Z
UID:10001190-1836815400-1836820800@parkhills.org
SUMMARY:Young At Heart (55+)
DESCRIPTION:Every Thursday @ 10:30 AM in Room 104 (Bible Study)\nOther activities may include luncheons and “game days”\, tours in adjacent cities\, and touring local attractions.
URL:https://parkhills.org/eventcalendar/young-at-heart-2-2/2028-03-16/
LOCATION:Parkhills Baptist Church\, 17747 San Pedro Ave\, San Antonio\, TX\, 78232
CATEGORIES:Adults
END:VEVENT
BEGIN:VEVENT
DTSTART;TZID=UTC:20280323T103000
DTEND;TZID=UTC:20280323T120000
DTSTAMP:20260425T173937
CREATED:20251023T150526Z
LAST-MODIFIED:20251023T150528Z
UID:10001191-1837420200-1837425600@parkhills.org
SUMMARY:Young At Heart (55+)
DESCRIPTION:Every Thursday @ 10:30 AM in Room 104 (Bible Study)\nOther activities may include luncheons and “game days”\, tours in adjacent cities\, and touring local attractions.
URL:https://parkhills.org/eventcalendar/young-at-heart-2-2/2028-03-23/
LOCATION:Parkhills Baptist Church\, 17747 San Pedro Ave\, San Antonio\, TX\, 78232
CATEGORIES:Adults
END:VEVENT
BEGIN:VEVENT
DTSTART;TZID=UTC:20280330T103000
DTEND;TZID=UTC:20280330T120000
DTSTAMP:20260425T173937
CREATED:20251023T150526Z
LAST-MODIFIED:20251023T150528Z
UID:10001192-1838025000-1838030400@parkhills.org
SUMMARY:Young At Heart (55+)
DESCRIPTION:Every Thursday @ 10:30 AM in Room 104 (Bible Study)\nOther activities may include luncheons and “game days”\, tours in adjacent cities\, and touring local attractions.
URL:https://parkhills.org/eventcalendar/young-at-heart-2-2/2028-03-30/
LOCATION:Parkhills Baptist Church\, 17747 San Pedro Ave\, San Antonio\, TX\, 78232
CATEGORIES:Adults
END:VEVENT
BEGIN:VEVENT
DTSTART;TZID=UTC:20280406T103000
DTEND;TZID=UTC:20280406T120000
DTSTAMP:20260425T173937
CREATED:20251023T150526Z
LAST-MODIFIED:20251023T150528Z
UID:10001193-1838629800-1838635200@parkhills.org
SUMMARY:Young At Heart (55+)
DESCRIPTION:Every Thursday @ 10:30 AM in Room 104 (Bible Study)\nOther activities may include luncheons and “game days”\, tours in adjacent cities\, and touring local attractions.
URL:https://parkhills.org/eventcalendar/young-at-heart-2-2/2028-04-06/
LOCATION:Parkhills Baptist Church\, 17747 San Pedro Ave\, San Antonio\, TX\, 78232
CATEGORIES:Adults
END:VEVENT
END:VCALENDAR