BEGIN:VCALENDAR
VERSION:2.0
PRODID:-//Parkhills Baptist Church - ECPv6.15.12.2//NONSGML v1.0//EN
CALSCALE:GREGORIAN
METHOD:PUBLISH
X-WR-CALNAME:Parkhills Baptist Church
X-ORIGINAL-URL:https://parkhills.org
X-WR-CALDESC:Events for Parkhills Baptist Church
REFRESH-INTERVAL;VALUE=DURATION:PT1H
X-Robots-Tag:noindex
X-PUBLISHED-TTL:PT1H
BEGIN:VTIMEZONE
TZID:UTC
BEGIN:STANDARD
TZOFFSETFROM:+0000
TZOFFSETTO:+0000
TZNAME:UTC
DTSTART:20260101T000000
END:STANDARD
END:VTIMEZONE
BEGIN:VEVENT
DTSTART;TZID=UTC:20270107T103000
DTEND;TZID=UTC:20270107T120000
DTSTAMP:20260425T122204
CREATED:20251023T150526Z
LAST-MODIFIED:20251023T150528Z
UID:10001128-1799317800-1799323200@parkhills.org
SUMMARY:Young At Heart (55+)
DESCRIPTION:Every Thursday @ 10:30 AM in Room 104 (Bible Study)\nOther activities may include luncheons and “game days”\, tours in adjacent cities\, and touring local attractions.
URL:https://parkhills.org/eventcalendar/young-at-heart-2-2/2027-01-07/
LOCATION:Parkhills Baptist Church\, 17747 San Pedro Ave\, San Antonio\, TX\, 78232
CATEGORIES:Adults
END:VEVENT
BEGIN:VEVENT
DTSTART;TZID=UTC:20270114T103000
DTEND;TZID=UTC:20270114T120000
DTSTAMP:20260425T122204
CREATED:20251023T150526Z
LAST-MODIFIED:20251023T150528Z
UID:10001129-1799922600-1799928000@parkhills.org
SUMMARY:Young At Heart (55+)
DESCRIPTION:Every Thursday @ 10:30 AM in Room 104 (Bible Study)\nOther activities may include luncheons and “game days”\, tours in adjacent cities\, and touring local attractions.
URL:https://parkhills.org/eventcalendar/young-at-heart-2-2/2027-01-14/
LOCATION:Parkhills Baptist Church\, 17747 San Pedro Ave\, San Antonio\, TX\, 78232
CATEGORIES:Adults
END:VEVENT
BEGIN:VEVENT
DTSTART;TZID=UTC:20270121T103000
DTEND;TZID=UTC:20270121T120000
DTSTAMP:20260425T122204
CREATED:20251023T150526Z
LAST-MODIFIED:20251023T150528Z
UID:10001130-1800527400-1800532800@parkhills.org
SUMMARY:Young At Heart (55+)
DESCRIPTION:Every Thursday @ 10:30 AM in Room 104 (Bible Study)\nOther activities may include luncheons and “game days”\, tours in adjacent cities\, and touring local attractions.
URL:https://parkhills.org/eventcalendar/young-at-heart-2-2/2027-01-21/
LOCATION:Parkhills Baptist Church\, 17747 San Pedro Ave\, San Antonio\, TX\, 78232
CATEGORIES:Adults
END:VEVENT
BEGIN:VEVENT
DTSTART;TZID=UTC:20270128T103000
DTEND;TZID=UTC:20270128T120000
DTSTAMP:20260425T122204
CREATED:20251023T150526Z
LAST-MODIFIED:20251023T150528Z
UID:10001131-1801132200-1801137600@parkhills.org
SUMMARY:Young At Heart (55+)
DESCRIPTION:Every Thursday @ 10:30 AM in Room 104 (Bible Study)\nOther activities may include luncheons and “game days”\, tours in adjacent cities\, and touring local attractions.
URL:https://parkhills.org/eventcalendar/young-at-heart-2-2/2027-01-28/
LOCATION:Parkhills Baptist Church\, 17747 San Pedro Ave\, San Antonio\, TX\, 78232
CATEGORIES:Adults
END:VEVENT
BEGIN:VEVENT
DTSTART;TZID=UTC:20270204T103000
DTEND;TZID=UTC:20270204T120000
DTSTAMP:20260425T122204
CREATED:20251023T150526Z
LAST-MODIFIED:20251023T150528Z
UID:10001132-1801737000-1801742400@parkhills.org
SUMMARY:Young At Heart (55+)
DESCRIPTION:Every Thursday @ 10:30 AM in Room 104 (Bible Study)\nOther activities may include luncheons and “game days”\, tours in adjacent cities\, and touring local attractions.
URL:https://parkhills.org/eventcalendar/young-at-heart-2-2/2027-02-04/
LOCATION:Parkhills Baptist Church\, 17747 San Pedro Ave\, San Antonio\, TX\, 78232
CATEGORIES:Adults
END:VEVENT
BEGIN:VEVENT
DTSTART;TZID=UTC:20270211T103000
DTEND;TZID=UTC:20270211T120000
DTSTAMP:20260425T122204
CREATED:20251023T150526Z
LAST-MODIFIED:20251023T150528Z
UID:10001133-1802341800-1802347200@parkhills.org
SUMMARY:Young At Heart (55+)
DESCRIPTION:Every Thursday @ 10:30 AM in Room 104 (Bible Study)\nOther activities may include luncheons and “game days”\, tours in adjacent cities\, and touring local attractions.
URL:https://parkhills.org/eventcalendar/young-at-heart-2-2/2027-02-11/
LOCATION:Parkhills Baptist Church\, 17747 San Pedro Ave\, San Antonio\, TX\, 78232
CATEGORIES:Adults
END:VEVENT
BEGIN:VEVENT
DTSTART;TZID=UTC:20270218T103000
DTEND;TZID=UTC:20270218T120000
DTSTAMP:20260425T122204
CREATED:20251023T150526Z
LAST-MODIFIED:20251023T150528Z
UID:10001134-1802946600-1802952000@parkhills.org
SUMMARY:Young At Heart (55+)
DESCRIPTION:Every Thursday @ 10:30 AM in Room 104 (Bible Study)\nOther activities may include luncheons and “game days”\, tours in adjacent cities\, and touring local attractions.
URL:https://parkhills.org/eventcalendar/young-at-heart-2-2/2027-02-18/
LOCATION:Parkhills Baptist Church\, 17747 San Pedro Ave\, San Antonio\, TX\, 78232
CATEGORIES:Adults
END:VEVENT
BEGIN:VEVENT
DTSTART;TZID=UTC:20270225T103000
DTEND;TZID=UTC:20270225T120000
DTSTAMP:20260425T122204
CREATED:20251023T150526Z
LAST-MODIFIED:20251023T150528Z
UID:10001135-1803551400-1803556800@parkhills.org
SUMMARY:Young At Heart (55+)
DESCRIPTION:Every Thursday @ 10:30 AM in Room 104 (Bible Study)\nOther activities may include luncheons and “game days”\, tours in adjacent cities\, and touring local attractions.
URL:https://parkhills.org/eventcalendar/young-at-heart-2-2/2027-02-25/
LOCATION:Parkhills Baptist Church\, 17747 San Pedro Ave\, San Antonio\, TX\, 78232
CATEGORIES:Adults
END:VEVENT
BEGIN:VEVENT
DTSTART;TZID=UTC:20270304T103000
DTEND;TZID=UTC:20270304T120000
DTSTAMP:20260425T122204
CREATED:20251023T150526Z
LAST-MODIFIED:20251023T150528Z
UID:10001136-1804156200-1804161600@parkhills.org
SUMMARY:Young At Heart (55+)
DESCRIPTION:Every Thursday @ 10:30 AM in Room 104 (Bible Study)\nOther activities may include luncheons and “game days”\, tours in adjacent cities\, and touring local attractions.
URL:https://parkhills.org/eventcalendar/young-at-heart-2-2/2027-03-04/
LOCATION:Parkhills Baptist Church\, 17747 San Pedro Ave\, San Antonio\, TX\, 78232
CATEGORIES:Adults
END:VEVENT
BEGIN:VEVENT
DTSTART;TZID=UTC:20270311T103000
DTEND;TZID=UTC:20270311T120000
DTSTAMP:20260425T122204
CREATED:20251023T150526Z
LAST-MODIFIED:20251023T150528Z
UID:10001137-1804761000-1804766400@parkhills.org
SUMMARY:Young At Heart (55+)
DESCRIPTION:Every Thursday @ 10:30 AM in Room 104 (Bible Study)\nOther activities may include luncheons and “game days”\, tours in adjacent cities\, and touring local attractions.
URL:https://parkhills.org/eventcalendar/young-at-heart-2-2/2027-03-11/
LOCATION:Parkhills Baptist Church\, 17747 San Pedro Ave\, San Antonio\, TX\, 78232
CATEGORIES:Adults
END:VEVENT
BEGIN:VEVENT
DTSTART;TZID=UTC:20270318T103000
DTEND;TZID=UTC:20270318T120000
DTSTAMP:20260425T122204
CREATED:20251023T150526Z
LAST-MODIFIED:20251023T150528Z
UID:10001138-1805365800-1805371200@parkhills.org
SUMMARY:Young At Heart (55+)
DESCRIPTION:Every Thursday @ 10:30 AM in Room 104 (Bible Study)\nOther activities may include luncheons and “game days”\, tours in adjacent cities\, and touring local attractions.
URL:https://parkhills.org/eventcalendar/young-at-heart-2-2/2027-03-18/
LOCATION:Parkhills Baptist Church\, 17747 San Pedro Ave\, San Antonio\, TX\, 78232
CATEGORIES:Adults
END:VEVENT
BEGIN:VEVENT
DTSTART;TZID=UTC:20270325T103000
DTEND;TZID=UTC:20270325T120000
DTSTAMP:20260425T122204
CREATED:20251023T150526Z
LAST-MODIFIED:20251023T150528Z
UID:10001139-1805970600-1805976000@parkhills.org
SUMMARY:Young At Heart (55+)
DESCRIPTION:Every Thursday @ 10:30 AM in Room 104 (Bible Study)\nOther activities may include luncheons and “game days”\, tours in adjacent cities\, and touring local attractions.
URL:https://parkhills.org/eventcalendar/young-at-heart-2-2/2027-03-25/
LOCATION:Parkhills Baptist Church\, 17747 San Pedro Ave\, San Antonio\, TX\, 78232
CATEGORIES:Adults
END:VEVENT
BEGIN:VEVENT
DTSTART;TZID=UTC:20270401T103000
DTEND;TZID=UTC:20270401T120000
DTSTAMP:20260425T122204
CREATED:20251023T150526Z
LAST-MODIFIED:20251023T150528Z
UID:10001140-1806575400-1806580800@parkhills.org
SUMMARY:Young At Heart (55+)
DESCRIPTION:Every Thursday @ 10:30 AM in Room 104 (Bible Study)\nOther activities may include luncheons and “game days”\, tours in adjacent cities\, and touring local attractions.
URL:https://parkhills.org/eventcalendar/young-at-heart-2-2/2027-04-01/
LOCATION:Parkhills Baptist Church\, 17747 San Pedro Ave\, San Antonio\, TX\, 78232
CATEGORIES:Adults
END:VEVENT
BEGIN:VEVENT
DTSTART;TZID=UTC:20270408T103000
DTEND;TZID=UTC:20270408T120000
DTSTAMP:20260425T122204
CREATED:20251023T150526Z
LAST-MODIFIED:20251023T150528Z
UID:10001141-1807180200-1807185600@parkhills.org
SUMMARY:Young At Heart (55+)
DESCRIPTION:Every Thursday @ 10:30 AM in Room 104 (Bible Study)\nOther activities may include luncheons and “game days”\, tours in adjacent cities\, and touring local attractions.
URL:https://parkhills.org/eventcalendar/young-at-heart-2-2/2027-04-08/
LOCATION:Parkhills Baptist Church\, 17747 San Pedro Ave\, San Antonio\, TX\, 78232
CATEGORIES:Adults
END:VEVENT
BEGIN:VEVENT
DTSTART;TZID=UTC:20270415T103000
DTEND;TZID=UTC:20270415T120000
DTSTAMP:20260425T122204
CREATED:20251023T150526Z
LAST-MODIFIED:20251023T150528Z
UID:10001142-1807785000-1807790400@parkhills.org
SUMMARY:Young At Heart (55+)
DESCRIPTION:Every Thursday @ 10:30 AM in Room 104 (Bible Study)\nOther activities may include luncheons and “game days”\, tours in adjacent cities\, and touring local attractions.
URL:https://parkhills.org/eventcalendar/young-at-heart-2-2/2027-04-15/
LOCATION:Parkhills Baptist Church\, 17747 San Pedro Ave\, San Antonio\, TX\, 78232
CATEGORIES:Adults
END:VEVENT
BEGIN:VEVENT
DTSTART;TZID=UTC:20270422T103000
DTEND;TZID=UTC:20270422T120000
DTSTAMP:20260425T122204
CREATED:20251023T150526Z
LAST-MODIFIED:20251023T150528Z
UID:10001143-1808389800-1808395200@parkhills.org
SUMMARY:Young At Heart (55+)
DESCRIPTION:Every Thursday @ 10:30 AM in Room 104 (Bible Study)\nOther activities may include luncheons and “game days”\, tours in adjacent cities\, and touring local attractions.
URL:https://parkhills.org/eventcalendar/young-at-heart-2-2/2027-04-22/
LOCATION:Parkhills Baptist Church\, 17747 San Pedro Ave\, San Antonio\, TX\, 78232
CATEGORIES:Adults
END:VEVENT
BEGIN:VEVENT
DTSTART;TZID=UTC:20270429T103000
DTEND;TZID=UTC:20270429T120000
DTSTAMP:20260425T122204
CREATED:20251023T150526Z
LAST-MODIFIED:20251023T150528Z
UID:10001144-1808994600-1809000000@parkhills.org
SUMMARY:Young At Heart (55+)
DESCRIPTION:Every Thursday @ 10:30 AM in Room 104 (Bible Study)\nOther activities may include luncheons and “game days”\, tours in adjacent cities\, and touring local attractions.
URL:https://parkhills.org/eventcalendar/young-at-heart-2-2/2027-04-29/
LOCATION:Parkhills Baptist Church\, 17747 San Pedro Ave\, San Antonio\, TX\, 78232
CATEGORIES:Adults
END:VEVENT
BEGIN:VEVENT
DTSTART;TZID=UTC:20270506T103000
DTEND;TZID=UTC:20270506T120000
DTSTAMP:20260425T122204
CREATED:20251023T150526Z
LAST-MODIFIED:20251023T150528Z
UID:10001145-1809599400-1809604800@parkhills.org
SUMMARY:Young At Heart (55+)
DESCRIPTION:Every Thursday @ 10:30 AM in Room 104 (Bible Study)\nOther activities may include luncheons and “game days”\, tours in adjacent cities\, and touring local attractions.
URL:https://parkhills.org/eventcalendar/young-at-heart-2-2/2027-05-06/
LOCATION:Parkhills Baptist Church\, 17747 San Pedro Ave\, San Antonio\, TX\, 78232
CATEGORIES:Adults
END:VEVENT
BEGIN:VEVENT
DTSTART;TZID=UTC:20270513T103000
DTEND;TZID=UTC:20270513T120000
DTSTAMP:20260425T122204
CREATED:20251023T150526Z
LAST-MODIFIED:20251023T150528Z
UID:10001146-1810204200-1810209600@parkhills.org
SUMMARY:Young At Heart (55+)
DESCRIPTION:Every Thursday @ 10:30 AM in Room 104 (Bible Study)\nOther activities may include luncheons and “game days”\, tours in adjacent cities\, and touring local attractions.
URL:https://parkhills.org/eventcalendar/young-at-heart-2-2/2027-05-13/
LOCATION:Parkhills Baptist Church\, 17747 San Pedro Ave\, San Antonio\, TX\, 78232
CATEGORIES:Adults
END:VEVENT
BEGIN:VEVENT
DTSTART;TZID=UTC:20270520T103000
DTEND;TZID=UTC:20270520T120000
DTSTAMP:20260425T122204
CREATED:20251023T150526Z
LAST-MODIFIED:20251023T150528Z
UID:10001147-1810809000-1810814400@parkhills.org
SUMMARY:Young At Heart (55+)
DESCRIPTION:Every Thursday @ 10:30 AM in Room 104 (Bible Study)\nOther activities may include luncheons and “game days”\, tours in adjacent cities\, and touring local attractions.
URL:https://parkhills.org/eventcalendar/young-at-heart-2-2/2027-05-20/
LOCATION:Parkhills Baptist Church\, 17747 San Pedro Ave\, San Antonio\, TX\, 78232
CATEGORIES:Adults
END:VEVENT
BEGIN:VEVENT
DTSTART;TZID=UTC:20270527T103000
DTEND;TZID=UTC:20270527T120000
DTSTAMP:20260425T122204
CREATED:20251023T150526Z
LAST-MODIFIED:20251023T150528Z
UID:10001148-1811413800-1811419200@parkhills.org
SUMMARY:Young At Heart (55+)
DESCRIPTION:Every Thursday @ 10:30 AM in Room 104 (Bible Study)\nOther activities may include luncheons and “game days”\, tours in adjacent cities\, and touring local attractions.
URL:https://parkhills.org/eventcalendar/young-at-heart-2-2/2027-05-27/
LOCATION:Parkhills Baptist Church\, 17747 San Pedro Ave\, San Antonio\, TX\, 78232
CATEGORIES:Adults
END:VEVENT
BEGIN:VEVENT
DTSTART;TZID=UTC:20270603T103000
DTEND;TZID=UTC:20270603T120000
DTSTAMP:20260425T122204
CREATED:20251023T150526Z
LAST-MODIFIED:20251023T150528Z
UID:10001149-1812018600-1812024000@parkhills.org
SUMMARY:Young At Heart (55+)
DESCRIPTION:Every Thursday @ 10:30 AM in Room 104 (Bible Study)\nOther activities may include luncheons and “game days”\, tours in adjacent cities\, and touring local attractions.
URL:https://parkhills.org/eventcalendar/young-at-heart-2-2/2027-06-03/
LOCATION:Parkhills Baptist Church\, 17747 San Pedro Ave\, San Antonio\, TX\, 78232
CATEGORIES:Adults
END:VEVENT
BEGIN:VEVENT
DTSTART;TZID=UTC:20270610T103000
DTEND;TZID=UTC:20270610T120000
DTSTAMP:20260425T122204
CREATED:20251023T150526Z
LAST-MODIFIED:20251023T150528Z
UID:10001150-1812623400-1812628800@parkhills.org
SUMMARY:Young At Heart (55+)
DESCRIPTION:Every Thursday @ 10:30 AM in Room 104 (Bible Study)\nOther activities may include luncheons and “game days”\, tours in adjacent cities\, and touring local attractions.
URL:https://parkhills.org/eventcalendar/young-at-heart-2-2/2027-06-10/
LOCATION:Parkhills Baptist Church\, 17747 San Pedro Ave\, San Antonio\, TX\, 78232
CATEGORIES:Adults
END:VEVENT
BEGIN:VEVENT
DTSTART;TZID=UTC:20270617T103000
DTEND;TZID=UTC:20270617T120000
DTSTAMP:20260425T122204
CREATED:20251023T150526Z
LAST-MODIFIED:20251023T150528Z
UID:10001151-1813228200-1813233600@parkhills.org
SUMMARY:Young At Heart (55+)
DESCRIPTION:Every Thursday @ 10:30 AM in Room 104 (Bible Study)\nOther activities may include luncheons and “game days”\, tours in adjacent cities\, and touring local attractions.
URL:https://parkhills.org/eventcalendar/young-at-heart-2-2/2027-06-17/
LOCATION:Parkhills Baptist Church\, 17747 San Pedro Ave\, San Antonio\, TX\, 78232
CATEGORIES:Adults
END:VEVENT
BEGIN:VEVENT
DTSTART;TZID=UTC:20270624T103000
DTEND;TZID=UTC:20270624T120000
DTSTAMP:20260425T122204
CREATED:20251023T150526Z
LAST-MODIFIED:20251023T150528Z
UID:10001152-1813833000-1813838400@parkhills.org
SUMMARY:Young At Heart (55+)
DESCRIPTION:Every Thursday @ 10:30 AM in Room 104 (Bible Study)\nOther activities may include luncheons and “game days”\, tours in adjacent cities\, and touring local attractions.
URL:https://parkhills.org/eventcalendar/young-at-heart-2-2/2027-06-24/
LOCATION:Parkhills Baptist Church\, 17747 San Pedro Ave\, San Antonio\, TX\, 78232
CATEGORIES:Adults
END:VEVENT
BEGIN:VEVENT
DTSTART;TZID=UTC:20270701T103000
DTEND;TZID=UTC:20270701T120000
DTSTAMP:20260425T122204
CREATED:20251023T150526Z
LAST-MODIFIED:20251023T150528Z
UID:10001153-1814437800-1814443200@parkhills.org
SUMMARY:Young At Heart (55+)
DESCRIPTION:Every Thursday @ 10:30 AM in Room 104 (Bible Study)\nOther activities may include luncheons and “game days”\, tours in adjacent cities\, and touring local attractions.
URL:https://parkhills.org/eventcalendar/young-at-heart-2-2/2027-07-01/
LOCATION:Parkhills Baptist Church\, 17747 San Pedro Ave\, San Antonio\, TX\, 78232
CATEGORIES:Adults
END:VEVENT
BEGIN:VEVENT
DTSTART;TZID=UTC:20270708T103000
DTEND;TZID=UTC:20270708T120000
DTSTAMP:20260425T122204
CREATED:20251023T150526Z
LAST-MODIFIED:20251023T150528Z
UID:10001154-1815042600-1815048000@parkhills.org
SUMMARY:Young At Heart (55+)
DESCRIPTION:Every Thursday @ 10:30 AM in Room 104 (Bible Study)\nOther activities may include luncheons and “game days”\, tours in adjacent cities\, and touring local attractions.
URL:https://parkhills.org/eventcalendar/young-at-heart-2-2/2027-07-08/
LOCATION:Parkhills Baptist Church\, 17747 San Pedro Ave\, San Antonio\, TX\, 78232
CATEGORIES:Adults
END:VEVENT
BEGIN:VEVENT
DTSTART;TZID=UTC:20270715T103000
DTEND;TZID=UTC:20270715T120000
DTSTAMP:20260425T122204
CREATED:20251023T150526Z
LAST-MODIFIED:20251023T150528Z
UID:10001155-1815647400-1815652800@parkhills.org
SUMMARY:Young At Heart (55+)
DESCRIPTION:Every Thursday @ 10:30 AM in Room 104 (Bible Study)\nOther activities may include luncheons and “game days”\, tours in adjacent cities\, and touring local attractions.
URL:https://parkhills.org/eventcalendar/young-at-heart-2-2/2027-07-15/
LOCATION:Parkhills Baptist Church\, 17747 San Pedro Ave\, San Antonio\, TX\, 78232
CATEGORIES:Adults
END:VEVENT
BEGIN:VEVENT
DTSTART;TZID=UTC:20270722T103000
DTEND;TZID=UTC:20270722T120000
DTSTAMP:20260425T122204
CREATED:20251023T150526Z
LAST-MODIFIED:20251023T150528Z
UID:10001156-1816252200-1816257600@parkhills.org
SUMMARY:Young At Heart (55+)
DESCRIPTION:Every Thursday @ 10:30 AM in Room 104 (Bible Study)\nOther activities may include luncheons and “game days”\, tours in adjacent cities\, and touring local attractions.
URL:https://parkhills.org/eventcalendar/young-at-heart-2-2/2027-07-22/
LOCATION:Parkhills Baptist Church\, 17747 San Pedro Ave\, San Antonio\, TX\, 78232
CATEGORIES:Adults
END:VEVENT
BEGIN:VEVENT
DTSTART;TZID=UTC:20270729T103000
DTEND;TZID=UTC:20270729T120000
DTSTAMP:20260425T122204
CREATED:20251023T150526Z
LAST-MODIFIED:20251023T150528Z
UID:10001157-1816857000-1816862400@parkhills.org
SUMMARY:Young At Heart (55+)
DESCRIPTION:Every Thursday @ 10:30 AM in Room 104 (Bible Study)\nOther activities may include luncheons and “game days”\, tours in adjacent cities\, and touring local attractions.
URL:https://parkhills.org/eventcalendar/young-at-heart-2-2/2027-07-29/
LOCATION:Parkhills Baptist Church\, 17747 San Pedro Ave\, San Antonio\, TX\, 78232
CATEGORIES:Adults
END:VEVENT
END:VCALENDAR