BEGIN:VCALENDAR
VERSION:2.0
PRODID:-//Parkhills Baptist Church - ECPv6.15.12.2//NONSGML v1.0//EN
CALSCALE:GREGORIAN
METHOD:PUBLISH
X-WR-CALNAME:Parkhills Baptist Church
X-ORIGINAL-URL:https://parkhills.org
X-WR-CALDESC:Events for Parkhills Baptist Church
REFRESH-INTERVAL;VALUE=DURATION:PT1H
X-Robots-Tag:noindex
X-PUBLISHED-TTL:PT1H
BEGIN:VTIMEZONE
TZID:UTC
BEGIN:STANDARD
TZOFFSETFROM:+0000
TZOFFSETTO:+0000
TZNAME:UTC
DTSTART:20280101T000000
END:STANDARD
END:VTIMEZONE
BEGIN:VEVENT
DTSTART;TZID=UTC:20290201T103000
DTEND;TZID=UTC:20290201T120000
DTSTAMP:20260426T025735
CREATED:20251023T150526Z
LAST-MODIFIED:20251023T150528Z
UID:10001236-1864636200-1864641600@parkhills.org
SUMMARY:Young At Heart (55+)
DESCRIPTION:Every Thursday @ 10:30 AM in Room 104 (Bible Study)\nOther activities may include luncheons and “game days”\, tours in adjacent cities\, and touring local attractions.
URL:https://parkhills.org/eventcalendar/young-at-heart-2-2/2029-02-01/
LOCATION:Parkhills Baptist Church\, 17747 San Pedro Ave\, San Antonio\, TX\, 78232
CATEGORIES:Adults
END:VEVENT
BEGIN:VEVENT
DTSTART;TZID=UTC:20290208T103000
DTEND;TZID=UTC:20290208T120000
DTSTAMP:20260426T025735
CREATED:20251023T150526Z
LAST-MODIFIED:20251023T150528Z
UID:10001237-1865241000-1865246400@parkhills.org
SUMMARY:Young At Heart (55+)
DESCRIPTION:Every Thursday @ 10:30 AM in Room 104 (Bible Study)\nOther activities may include luncheons and “game days”\, tours in adjacent cities\, and touring local attractions.
URL:https://parkhills.org/eventcalendar/young-at-heart-2-2/2029-02-08/
LOCATION:Parkhills Baptist Church\, 17747 San Pedro Ave\, San Antonio\, TX\, 78232
CATEGORIES:Adults
END:VEVENT
BEGIN:VEVENT
DTSTART;TZID=UTC:20290215T103000
DTEND;TZID=UTC:20290215T120000
DTSTAMP:20260426T025735
CREATED:20251023T150526Z
LAST-MODIFIED:20251023T150528Z
UID:10001238-1865845800-1865851200@parkhills.org
SUMMARY:Young At Heart (55+)
DESCRIPTION:Every Thursday @ 10:30 AM in Room 104 (Bible Study)\nOther activities may include luncheons and “game days”\, tours in adjacent cities\, and touring local attractions.
URL:https://parkhills.org/eventcalendar/young-at-heart-2-2/2029-02-15/
LOCATION:Parkhills Baptist Church\, 17747 San Pedro Ave\, San Antonio\, TX\, 78232
CATEGORIES:Adults
END:VEVENT
BEGIN:VEVENT
DTSTART;TZID=UTC:20290222T103000
DTEND;TZID=UTC:20290222T120000
DTSTAMP:20260426T025735
CREATED:20251023T150526Z
LAST-MODIFIED:20251023T150528Z
UID:10001239-1866450600-1866456000@parkhills.org
SUMMARY:Young At Heart (55+)
DESCRIPTION:Every Thursday @ 10:30 AM in Room 104 (Bible Study)\nOther activities may include luncheons and “game days”\, tours in adjacent cities\, and touring local attractions.
URL:https://parkhills.org/eventcalendar/young-at-heart-2-2/2029-02-22/
LOCATION:Parkhills Baptist Church\, 17747 San Pedro Ave\, San Antonio\, TX\, 78232
CATEGORIES:Adults
END:VEVENT
BEGIN:VEVENT
DTSTART;TZID=UTC:20290301T103000
DTEND;TZID=UTC:20290301T120000
DTSTAMP:20260426T025735
CREATED:20251023T150526Z
LAST-MODIFIED:20251023T150528Z
UID:10001240-1867055400-1867060800@parkhills.org
SUMMARY:Young At Heart (55+)
DESCRIPTION:Every Thursday @ 10:30 AM in Room 104 (Bible Study)\nOther activities may include luncheons and “game days”\, tours in adjacent cities\, and touring local attractions.
URL:https://parkhills.org/eventcalendar/young-at-heart-2-2/2029-03-01/
LOCATION:Parkhills Baptist Church\, 17747 San Pedro Ave\, San Antonio\, TX\, 78232
CATEGORIES:Adults
END:VEVENT
BEGIN:VEVENT
DTSTART;TZID=UTC:20290308T103000
DTEND;TZID=UTC:20290308T120000
DTSTAMP:20260426T025735
CREATED:20251023T150526Z
LAST-MODIFIED:20251023T150528Z
UID:10001241-1867660200-1867665600@parkhills.org
SUMMARY:Young At Heart (55+)
DESCRIPTION:Every Thursday @ 10:30 AM in Room 104 (Bible Study)\nOther activities may include luncheons and “game days”\, tours in adjacent cities\, and touring local attractions.
URL:https://parkhills.org/eventcalendar/young-at-heart-2-2/2029-03-08/
LOCATION:Parkhills Baptist Church\, 17747 San Pedro Ave\, San Antonio\, TX\, 78232
CATEGORIES:Adults
END:VEVENT
BEGIN:VEVENT
DTSTART;TZID=UTC:20290315T103000
DTEND;TZID=UTC:20290315T120000
DTSTAMP:20260426T025735
CREATED:20251023T150526Z
LAST-MODIFIED:20251023T150528Z
UID:10001242-1868265000-1868270400@parkhills.org
SUMMARY:Young At Heart (55+)
DESCRIPTION:Every Thursday @ 10:30 AM in Room 104 (Bible Study)\nOther activities may include luncheons and “game days”\, tours in adjacent cities\, and touring local attractions.
URL:https://parkhills.org/eventcalendar/young-at-heart-2-2/2029-03-15/
LOCATION:Parkhills Baptist Church\, 17747 San Pedro Ave\, San Antonio\, TX\, 78232
CATEGORIES:Adults
END:VEVENT
BEGIN:VEVENT
DTSTART;TZID=UTC:20290322T103000
DTEND;TZID=UTC:20290322T120000
DTSTAMP:20260426T025735
CREATED:20251023T150526Z
LAST-MODIFIED:20251023T150528Z
UID:10001243-1868869800-1868875200@parkhills.org
SUMMARY:Young At Heart (55+)
DESCRIPTION:Every Thursday @ 10:30 AM in Room 104 (Bible Study)\nOther activities may include luncheons and “game days”\, tours in adjacent cities\, and touring local attractions.
URL:https://parkhills.org/eventcalendar/young-at-heart-2-2/2029-03-22/
LOCATION:Parkhills Baptist Church\, 17747 San Pedro Ave\, San Antonio\, TX\, 78232
CATEGORIES:Adults
END:VEVENT
BEGIN:VEVENT
DTSTART;TZID=UTC:20290329T103000
DTEND;TZID=UTC:20290329T120000
DTSTAMP:20260426T025735
CREATED:20251023T150526Z
LAST-MODIFIED:20251023T150528Z
UID:10001244-1869474600-1869480000@parkhills.org
SUMMARY:Young At Heart (55+)
DESCRIPTION:Every Thursday @ 10:30 AM in Room 104 (Bible Study)\nOther activities may include luncheons and “game days”\, tours in adjacent cities\, and touring local attractions.
URL:https://parkhills.org/eventcalendar/young-at-heart-2-2/2029-03-29/
LOCATION:Parkhills Baptist Church\, 17747 San Pedro Ave\, San Antonio\, TX\, 78232
CATEGORIES:Adults
END:VEVENT
BEGIN:VEVENT
DTSTART;TZID=UTC:20290405T103000
DTEND;TZID=UTC:20290405T120000
DTSTAMP:20260426T025735
CREATED:20251023T150526Z
LAST-MODIFIED:20251023T150528Z
UID:10001245-1870079400-1870084800@parkhills.org
SUMMARY:Young At Heart (55+)
DESCRIPTION:Every Thursday @ 10:30 AM in Room 104 (Bible Study)\nOther activities may include luncheons and “game days”\, tours in adjacent cities\, and touring local attractions.
URL:https://parkhills.org/eventcalendar/young-at-heart-2-2/2029-04-05/
LOCATION:Parkhills Baptist Church\, 17747 San Pedro Ave\, San Antonio\, TX\, 78232
CATEGORIES:Adults
END:VEVENT
BEGIN:VEVENT
DTSTART;TZID=UTC:20290412T103000
DTEND;TZID=UTC:20290412T120000
DTSTAMP:20260426T025735
CREATED:20251023T150526Z
LAST-MODIFIED:20251023T150528Z
UID:10001246-1870684200-1870689600@parkhills.org
SUMMARY:Young At Heart (55+)
DESCRIPTION:Every Thursday @ 10:30 AM in Room 104 (Bible Study)\nOther activities may include luncheons and “game days”\, tours in adjacent cities\, and touring local attractions.
URL:https://parkhills.org/eventcalendar/young-at-heart-2-2/2029-04-12/
LOCATION:Parkhills Baptist Church\, 17747 San Pedro Ave\, San Antonio\, TX\, 78232
CATEGORIES:Adults
END:VEVENT
BEGIN:VEVENT
DTSTART;TZID=UTC:20290419T103000
DTEND;TZID=UTC:20290419T120000
DTSTAMP:20260426T025735
CREATED:20251023T150526Z
LAST-MODIFIED:20251023T150528Z
UID:10001247-1871289000-1871294400@parkhills.org
SUMMARY:Young At Heart (55+)
DESCRIPTION:Every Thursday @ 10:30 AM in Room 104 (Bible Study)\nOther activities may include luncheons and “game days”\, tours in adjacent cities\, and touring local attractions.
URL:https://parkhills.org/eventcalendar/young-at-heart-2-2/2029-04-19/
LOCATION:Parkhills Baptist Church\, 17747 San Pedro Ave\, San Antonio\, TX\, 78232
CATEGORIES:Adults
END:VEVENT
BEGIN:VEVENT
DTSTART;TZID=UTC:20290426T103000
DTEND;TZID=UTC:20290426T120000
DTSTAMP:20260426T025735
CREATED:20251023T150526Z
LAST-MODIFIED:20251023T150528Z
UID:10001248-1871893800-1871899200@parkhills.org
SUMMARY:Young At Heart (55+)
DESCRIPTION:Every Thursday @ 10:30 AM in Room 104 (Bible Study)\nOther activities may include luncheons and “game days”\, tours in adjacent cities\, and touring local attractions.
URL:https://parkhills.org/eventcalendar/young-at-heart-2-2/2029-04-26/
LOCATION:Parkhills Baptist Church\, 17747 San Pedro Ave\, San Antonio\, TX\, 78232
CATEGORIES:Adults
END:VEVENT
BEGIN:VEVENT
DTSTART;TZID=UTC:20290503T103000
DTEND;TZID=UTC:20290503T120000
DTSTAMP:20260426T025735
CREATED:20251023T150526Z
LAST-MODIFIED:20251023T150528Z
UID:10001249-1872498600-1872504000@parkhills.org
SUMMARY:Young At Heart (55+)
DESCRIPTION:Every Thursday @ 10:30 AM in Room 104 (Bible Study)\nOther activities may include luncheons and “game days”\, tours in adjacent cities\, and touring local attractions.
URL:https://parkhills.org/eventcalendar/young-at-heart-2-2/2029-05-03/
LOCATION:Parkhills Baptist Church\, 17747 San Pedro Ave\, San Antonio\, TX\, 78232
CATEGORIES:Adults
END:VEVENT
BEGIN:VEVENT
DTSTART;TZID=UTC:20290510T103000
DTEND;TZID=UTC:20290510T120000
DTSTAMP:20260426T025735
CREATED:20251023T150526Z
LAST-MODIFIED:20251023T150528Z
UID:10001250-1873103400-1873108800@parkhills.org
SUMMARY:Young At Heart (55+)
DESCRIPTION:Every Thursday @ 10:30 AM in Room 104 (Bible Study)\nOther activities may include luncheons and “game days”\, tours in adjacent cities\, and touring local attractions.
URL:https://parkhills.org/eventcalendar/young-at-heart-2-2/2029-05-10/
LOCATION:Parkhills Baptist Church\, 17747 San Pedro Ave\, San Antonio\, TX\, 78232
CATEGORIES:Adults
END:VEVENT
BEGIN:VEVENT
DTSTART;TZID=UTC:20290517T103000
DTEND;TZID=UTC:20290517T120000
DTSTAMP:20260426T025735
CREATED:20251023T150526Z
LAST-MODIFIED:20251023T150528Z
UID:10001251-1873708200-1873713600@parkhills.org
SUMMARY:Young At Heart (55+)
DESCRIPTION:Every Thursday @ 10:30 AM in Room 104 (Bible Study)\nOther activities may include luncheons and “game days”\, tours in adjacent cities\, and touring local attractions.
URL:https://parkhills.org/eventcalendar/young-at-heart-2-2/2029-05-17/
LOCATION:Parkhills Baptist Church\, 17747 San Pedro Ave\, San Antonio\, TX\, 78232
CATEGORIES:Adults
END:VEVENT
BEGIN:VEVENT
DTSTART;TZID=UTC:20290524T103000
DTEND;TZID=UTC:20290524T120000
DTSTAMP:20260426T025735
CREATED:20251023T150526Z
LAST-MODIFIED:20251023T150528Z
UID:10001252-1874313000-1874318400@parkhills.org
SUMMARY:Young At Heart (55+)
DESCRIPTION:Every Thursday @ 10:30 AM in Room 104 (Bible Study)\nOther activities may include luncheons and “game days”\, tours in adjacent cities\, and touring local attractions.
URL:https://parkhills.org/eventcalendar/young-at-heart-2-2/2029-05-24/
LOCATION:Parkhills Baptist Church\, 17747 San Pedro Ave\, San Antonio\, TX\, 78232
CATEGORIES:Adults
END:VEVENT
BEGIN:VEVENT
DTSTART;TZID=UTC:20290531T103000
DTEND;TZID=UTC:20290531T120000
DTSTAMP:20260426T025735
CREATED:20251023T150526Z
LAST-MODIFIED:20251023T150528Z
UID:10001253-1874917800-1874923200@parkhills.org
SUMMARY:Young At Heart (55+)
DESCRIPTION:Every Thursday @ 10:30 AM in Room 104 (Bible Study)\nOther activities may include luncheons and “game days”\, tours in adjacent cities\, and touring local attractions.
URL:https://parkhills.org/eventcalendar/young-at-heart-2-2/2029-05-31/
LOCATION:Parkhills Baptist Church\, 17747 San Pedro Ave\, San Antonio\, TX\, 78232
CATEGORIES:Adults
END:VEVENT
BEGIN:VEVENT
DTSTART;TZID=UTC:20290607T103000
DTEND;TZID=UTC:20290607T120000
DTSTAMP:20260426T025735
CREATED:20251023T150526Z
LAST-MODIFIED:20251023T150528Z
UID:10001254-1875522600-1875528000@parkhills.org
SUMMARY:Young At Heart (55+)
DESCRIPTION:Every Thursday @ 10:30 AM in Room 104 (Bible Study)\nOther activities may include luncheons and “game days”\, tours in adjacent cities\, and touring local attractions.
URL:https://parkhills.org/eventcalendar/young-at-heart-2-2/2029-06-07/
LOCATION:Parkhills Baptist Church\, 17747 San Pedro Ave\, San Antonio\, TX\, 78232
CATEGORIES:Adults
END:VEVENT
BEGIN:VEVENT
DTSTART;TZID=UTC:20290614T103000
DTEND;TZID=UTC:20290614T120000
DTSTAMP:20260426T025735
CREATED:20251023T150526Z
LAST-MODIFIED:20251023T150528Z
UID:10001255-1876127400-1876132800@parkhills.org
SUMMARY:Young At Heart (55+)
DESCRIPTION:Every Thursday @ 10:30 AM in Room 104 (Bible Study)\nOther activities may include luncheons and “game days”\, tours in adjacent cities\, and touring local attractions.
URL:https://parkhills.org/eventcalendar/young-at-heart-2-2/2029-06-14/
LOCATION:Parkhills Baptist Church\, 17747 San Pedro Ave\, San Antonio\, TX\, 78232
CATEGORIES:Adults
END:VEVENT
BEGIN:VEVENT
DTSTART;TZID=UTC:20290621T103000
DTEND;TZID=UTC:20290621T120000
DTSTAMP:20260426T025735
CREATED:20251023T150526Z
LAST-MODIFIED:20251023T150528Z
UID:10001256-1876732200-1876737600@parkhills.org
SUMMARY:Young At Heart (55+)
DESCRIPTION:Every Thursday @ 10:30 AM in Room 104 (Bible Study)\nOther activities may include luncheons and “game days”\, tours in adjacent cities\, and touring local attractions.
URL:https://parkhills.org/eventcalendar/young-at-heart-2-2/2029-06-21/
LOCATION:Parkhills Baptist Church\, 17747 San Pedro Ave\, San Antonio\, TX\, 78232
CATEGORIES:Adults
END:VEVENT
BEGIN:VEVENT
DTSTART;TZID=UTC:20290628T103000
DTEND;TZID=UTC:20290628T120000
DTSTAMP:20260426T025735
CREATED:20251023T150526Z
LAST-MODIFIED:20251023T150528Z
UID:10001257-1877337000-1877342400@parkhills.org
SUMMARY:Young At Heart (55+)
DESCRIPTION:Every Thursday @ 10:30 AM in Room 104 (Bible Study)\nOther activities may include luncheons and “game days”\, tours in adjacent cities\, and touring local attractions.
URL:https://parkhills.org/eventcalendar/young-at-heart-2-2/2029-06-28/
LOCATION:Parkhills Baptist Church\, 17747 San Pedro Ave\, San Antonio\, TX\, 78232
CATEGORIES:Adults
END:VEVENT
BEGIN:VEVENT
DTSTART;TZID=UTC:20290705T103000
DTEND;TZID=UTC:20290705T120000
DTSTAMP:20260426T025735
CREATED:20251023T150526Z
LAST-MODIFIED:20251023T150528Z
UID:10001258-1877941800-1877947200@parkhills.org
SUMMARY:Young At Heart (55+)
DESCRIPTION:Every Thursday @ 10:30 AM in Room 104 (Bible Study)\nOther activities may include luncheons and “game days”\, tours in adjacent cities\, and touring local attractions.
URL:https://parkhills.org/eventcalendar/young-at-heart-2-2/2029-07-05/
LOCATION:Parkhills Baptist Church\, 17747 San Pedro Ave\, San Antonio\, TX\, 78232
CATEGORIES:Adults
END:VEVENT
BEGIN:VEVENT
DTSTART;TZID=UTC:20290712T103000
DTEND;TZID=UTC:20290712T120000
DTSTAMP:20260426T025735
CREATED:20251023T150526Z
LAST-MODIFIED:20251023T150528Z
UID:10001259-1878546600-1878552000@parkhills.org
SUMMARY:Young At Heart (55+)
DESCRIPTION:Every Thursday @ 10:30 AM in Room 104 (Bible Study)\nOther activities may include luncheons and “game days”\, tours in adjacent cities\, and touring local attractions.
URL:https://parkhills.org/eventcalendar/young-at-heart-2-2/2029-07-12/
LOCATION:Parkhills Baptist Church\, 17747 San Pedro Ave\, San Antonio\, TX\, 78232
CATEGORIES:Adults
END:VEVENT
BEGIN:VEVENT
DTSTART;TZID=UTC:20290719T103000
DTEND;TZID=UTC:20290719T120000
DTSTAMP:20260426T025735
CREATED:20251023T150526Z
LAST-MODIFIED:20251023T150528Z
UID:10001260-1879151400-1879156800@parkhills.org
SUMMARY:Young At Heart (55+)
DESCRIPTION:Every Thursday @ 10:30 AM in Room 104 (Bible Study)\nOther activities may include luncheons and “game days”\, tours in adjacent cities\, and touring local attractions.
URL:https://parkhills.org/eventcalendar/young-at-heart-2-2/2029-07-19/
LOCATION:Parkhills Baptist Church\, 17747 San Pedro Ave\, San Antonio\, TX\, 78232
CATEGORIES:Adults
END:VEVENT
BEGIN:VEVENT
DTSTART;TZID=UTC:20290726T103000
DTEND;TZID=UTC:20290726T120000
DTSTAMP:20260426T025735
CREATED:20251023T150526Z
LAST-MODIFIED:20251023T150528Z
UID:10001261-1879756200-1879761600@parkhills.org
SUMMARY:Young At Heart (55+)
DESCRIPTION:Every Thursday @ 10:30 AM in Room 104 (Bible Study)\nOther activities may include luncheons and “game days”\, tours in adjacent cities\, and touring local attractions.
URL:https://parkhills.org/eventcalendar/young-at-heart-2-2/2029-07-26/
LOCATION:Parkhills Baptist Church\, 17747 San Pedro Ave\, San Antonio\, TX\, 78232
CATEGORIES:Adults
END:VEVENT
BEGIN:VEVENT
DTSTART;TZID=UTC:20290802T103000
DTEND;TZID=UTC:20290802T120000
DTSTAMP:20260426T025735
CREATED:20251023T150526Z
LAST-MODIFIED:20251023T150528Z
UID:10001262-1880361000-1880366400@parkhills.org
SUMMARY:Young At Heart (55+)
DESCRIPTION:Every Thursday @ 10:30 AM in Room 104 (Bible Study)\nOther activities may include luncheons and “game days”\, tours in adjacent cities\, and touring local attractions.
URL:https://parkhills.org/eventcalendar/young-at-heart-2-2/2029-08-02/
LOCATION:Parkhills Baptist Church\, 17747 San Pedro Ave\, San Antonio\, TX\, 78232
CATEGORIES:Adults
END:VEVENT
BEGIN:VEVENT
DTSTART;TZID=UTC:20290809T103000
DTEND;TZID=UTC:20290809T120000
DTSTAMP:20260426T025735
CREATED:20251023T150526Z
LAST-MODIFIED:20251023T150528Z
UID:10001263-1880965800-1880971200@parkhills.org
SUMMARY:Young At Heart (55+)
DESCRIPTION:Every Thursday @ 10:30 AM in Room 104 (Bible Study)\nOther activities may include luncheons and “game days”\, tours in adjacent cities\, and touring local attractions.
URL:https://parkhills.org/eventcalendar/young-at-heart-2-2/2029-08-09/
LOCATION:Parkhills Baptist Church\, 17747 San Pedro Ave\, San Antonio\, TX\, 78232
CATEGORIES:Adults
END:VEVENT
BEGIN:VEVENT
DTSTART;TZID=UTC:20290816T103000
DTEND;TZID=UTC:20290816T120000
DTSTAMP:20260426T025735
CREATED:20251023T150526Z
LAST-MODIFIED:20251023T150528Z
UID:10001264-1881570600-1881576000@parkhills.org
SUMMARY:Young At Heart (55+)
DESCRIPTION:Every Thursday @ 10:30 AM in Room 104 (Bible Study)\nOther activities may include luncheons and “game days”\, tours in adjacent cities\, and touring local attractions.
URL:https://parkhills.org/eventcalendar/young-at-heart-2-2/2029-08-16/
LOCATION:Parkhills Baptist Church\, 17747 San Pedro Ave\, San Antonio\, TX\, 78232
CATEGORIES:Adults
END:VEVENT
BEGIN:VEVENT
DTSTART;TZID=UTC:20290823T103000
DTEND;TZID=UTC:20290823T120000
DTSTAMP:20260426T025735
CREATED:20251023T150526Z
LAST-MODIFIED:20251023T150528Z
UID:10001265-1882175400-1882180800@parkhills.org
SUMMARY:Young At Heart (55+)
DESCRIPTION:Every Thursday @ 10:30 AM in Room 104 (Bible Study)\nOther activities may include luncheons and “game days”\, tours in adjacent cities\, and touring local attractions.
URL:https://parkhills.org/eventcalendar/young-at-heart-2-2/2029-08-23/
LOCATION:Parkhills Baptist Church\, 17747 San Pedro Ave\, San Antonio\, TX\, 78232
CATEGORIES:Adults
END:VEVENT
END:VCALENDAR