BEGIN:VCALENDAR
VERSION:2.0
PRODID:-//Parkhills Baptist Church - ECPv6.15.12.2//NONSGML v1.0//EN
CALSCALE:GREGORIAN
METHOD:PUBLISH
X-ORIGINAL-URL:https://parkhills.org
X-WR-CALDESC:Events for Parkhills Baptist Church
REFRESH-INTERVAL;VALUE=DURATION:PT1H
X-Robots-Tag:noindex
X-PUBLISHED-TTL:PT1H
BEGIN:VTIMEZONE
TZID:UTC
BEGIN:STANDARD
TZOFFSETFROM:+0000
TZOFFSETTO:+0000
TZNAME:UTC
DTSTART:20270101T000000
END:STANDARD
END:VTIMEZONE
BEGIN:VEVENT
DTSTART;TZID=UTC:20280817T103000
DTEND;TZID=UTC:20280817T120000
DTSTAMP:20260425T232444
CREATED:20251023T150526Z
LAST-MODIFIED:20251023T150528Z
UID:10001212-1850121000-1850126400@parkhills.org
SUMMARY:Young At Heart (55+)
DESCRIPTION:Every Thursday @ 10:30 AM in Room 104 (Bible Study)\nOther activities may include luncheons and “game days”\, tours in adjacent cities\, and touring local attractions.
URL:https://parkhills.org/eventcalendar/young-at-heart-2-2/2028-08-17/
LOCATION:Parkhills Baptist Church\, 17747 San Pedro Ave\, San Antonio\, TX\, 78232
CATEGORIES:Adults
END:VEVENT
BEGIN:VEVENT
DTSTART;TZID=UTC:20280824T103000
DTEND;TZID=UTC:20280824T120000
DTSTAMP:20260425T232444
CREATED:20251023T150526Z
LAST-MODIFIED:20251023T150528Z
UID:10001213-1850725800-1850731200@parkhills.org
SUMMARY:Young At Heart (55+)
DESCRIPTION:Every Thursday @ 10:30 AM in Room 104 (Bible Study)\nOther activities may include luncheons and “game days”\, tours in adjacent cities\, and touring local attractions.
URL:https://parkhills.org/eventcalendar/young-at-heart-2-2/2028-08-24/
LOCATION:Parkhills Baptist Church\, 17747 San Pedro Ave\, San Antonio\, TX\, 78232
CATEGORIES:Adults
END:VEVENT
BEGIN:VEVENT
DTSTART;TZID=UTC:20280831T103000
DTEND;TZID=UTC:20280831T120000
DTSTAMP:20260425T232444
CREATED:20251023T150526Z
LAST-MODIFIED:20251023T150528Z
UID:10001214-1851330600-1851336000@parkhills.org
SUMMARY:Young At Heart (55+)
DESCRIPTION:Every Thursday @ 10:30 AM in Room 104 (Bible Study)\nOther activities may include luncheons and “game days”\, tours in adjacent cities\, and touring local attractions.
URL:https://parkhills.org/eventcalendar/young-at-heart-2-2/2028-08-31/
LOCATION:Parkhills Baptist Church\, 17747 San Pedro Ave\, San Antonio\, TX\, 78232
CATEGORIES:Adults
END:VEVENT
BEGIN:VEVENT
DTSTART;TZID=UTC:20280907T103000
DTEND;TZID=UTC:20280907T120000
DTSTAMP:20260425T232444
CREATED:20251023T150526Z
LAST-MODIFIED:20251023T150528Z
UID:10001215-1851935400-1851940800@parkhills.org
SUMMARY:Young At Heart (55+)
DESCRIPTION:Every Thursday @ 10:30 AM in Room 104 (Bible Study)\nOther activities may include luncheons and “game days”\, tours in adjacent cities\, and touring local attractions.
URL:https://parkhills.org/eventcalendar/young-at-heart-2-2/2028-09-07/
LOCATION:Parkhills Baptist Church\, 17747 San Pedro Ave\, San Antonio\, TX\, 78232
CATEGORIES:Adults
END:VEVENT
BEGIN:VEVENT
DTSTART;TZID=UTC:20280914T103000
DTEND;TZID=UTC:20280914T120000
DTSTAMP:20260425T232444
CREATED:20251023T150526Z
LAST-MODIFIED:20251023T150528Z
UID:10001216-1852540200-1852545600@parkhills.org
SUMMARY:Young At Heart (55+)
DESCRIPTION:Every Thursday @ 10:30 AM in Room 104 (Bible Study)\nOther activities may include luncheons and “game days”\, tours in adjacent cities\, and touring local attractions.
URL:https://parkhills.org/eventcalendar/young-at-heart-2-2/2028-09-14/
LOCATION:Parkhills Baptist Church\, 17747 San Pedro Ave\, San Antonio\, TX\, 78232
CATEGORIES:Adults
END:VEVENT
BEGIN:VEVENT
DTSTART;TZID=UTC:20280921T103000
DTEND;TZID=UTC:20280921T120000
DTSTAMP:20260425T232444
CREATED:20251023T150526Z
LAST-MODIFIED:20251023T150528Z
UID:10001217-1853145000-1853150400@parkhills.org
SUMMARY:Young At Heart (55+)
DESCRIPTION:Every Thursday @ 10:30 AM in Room 104 (Bible Study)\nOther activities may include luncheons and “game days”\, tours in adjacent cities\, and touring local attractions.
URL:https://parkhills.org/eventcalendar/young-at-heart-2-2/2028-09-21/
LOCATION:Parkhills Baptist Church\, 17747 San Pedro Ave\, San Antonio\, TX\, 78232
CATEGORIES:Adults
END:VEVENT
BEGIN:VEVENT
DTSTART;TZID=UTC:20280928T103000
DTEND;TZID=UTC:20280928T120000
DTSTAMP:20260425T232444
CREATED:20251023T150526Z
LAST-MODIFIED:20251023T150528Z
UID:10001218-1853749800-1853755200@parkhills.org
SUMMARY:Young At Heart (55+)
DESCRIPTION:Every Thursday @ 10:30 AM in Room 104 (Bible Study)\nOther activities may include luncheons and “game days”\, tours in adjacent cities\, and touring local attractions.
URL:https://parkhills.org/eventcalendar/young-at-heart-2-2/2028-09-28/
LOCATION:Parkhills Baptist Church\, 17747 San Pedro Ave\, San Antonio\, TX\, 78232
CATEGORIES:Adults
END:VEVENT
BEGIN:VEVENT
DTSTART;TZID=UTC:20281005T103000
DTEND;TZID=UTC:20281005T120000
DTSTAMP:20260425T232444
CREATED:20251023T150526Z
LAST-MODIFIED:20251023T150528Z
UID:10001219-1854354600-1854360000@parkhills.org
SUMMARY:Young At Heart (55+)
DESCRIPTION:Every Thursday @ 10:30 AM in Room 104 (Bible Study)\nOther activities may include luncheons and “game days”\, tours in adjacent cities\, and touring local attractions.
URL:https://parkhills.org/eventcalendar/young-at-heart-2-2/2028-10-05/
LOCATION:Parkhills Baptist Church\, 17747 San Pedro Ave\, San Antonio\, TX\, 78232
CATEGORIES:Adults
END:VEVENT
BEGIN:VEVENT
DTSTART;TZID=UTC:20281012T103000
DTEND;TZID=UTC:20281012T120000
DTSTAMP:20260425T232444
CREATED:20251023T150526Z
LAST-MODIFIED:20251023T150528Z
UID:10001220-1854959400-1854964800@parkhills.org
SUMMARY:Young At Heart (55+)
DESCRIPTION:Every Thursday @ 10:30 AM in Room 104 (Bible Study)\nOther activities may include luncheons and “game days”\, tours in adjacent cities\, and touring local attractions.
URL:https://parkhills.org/eventcalendar/young-at-heart-2-2/2028-10-12/
LOCATION:Parkhills Baptist Church\, 17747 San Pedro Ave\, San Antonio\, TX\, 78232
CATEGORIES:Adults
END:VEVENT
BEGIN:VEVENT
DTSTART;TZID=UTC:20281019T103000
DTEND;TZID=UTC:20281019T120000
DTSTAMP:20260425T232444
CREATED:20251023T150526Z
LAST-MODIFIED:20251023T150528Z
UID:10001221-1855564200-1855569600@parkhills.org
SUMMARY:Young At Heart (55+)
DESCRIPTION:Every Thursday @ 10:30 AM in Room 104 (Bible Study)\nOther activities may include luncheons and “game days”\, tours in adjacent cities\, and touring local attractions.
URL:https://parkhills.org/eventcalendar/young-at-heart-2-2/2028-10-19/
LOCATION:Parkhills Baptist Church\, 17747 San Pedro Ave\, San Antonio\, TX\, 78232
CATEGORIES:Adults
END:VEVENT
BEGIN:VEVENT
DTSTART;TZID=UTC:20281026T103000
DTEND;TZID=UTC:20281026T120000
DTSTAMP:20260425T232444
CREATED:20251023T150526Z
LAST-MODIFIED:20251023T150528Z
UID:10001222-1856169000-1856174400@parkhills.org
SUMMARY:Young At Heart (55+)
DESCRIPTION:Every Thursday @ 10:30 AM in Room 104 (Bible Study)\nOther activities may include luncheons and “game days”\, tours in adjacent cities\, and touring local attractions.
URL:https://parkhills.org/eventcalendar/young-at-heart-2-2/2028-10-26/
LOCATION:Parkhills Baptist Church\, 17747 San Pedro Ave\, San Antonio\, TX\, 78232
CATEGORIES:Adults
END:VEVENT
BEGIN:VEVENT
DTSTART;TZID=UTC:20281102T103000
DTEND;TZID=UTC:20281102T120000
DTSTAMP:20260425T232444
CREATED:20251023T150526Z
LAST-MODIFIED:20251023T150528Z
UID:10001223-1856773800-1856779200@parkhills.org
SUMMARY:Young At Heart (55+)
DESCRIPTION:Every Thursday @ 10:30 AM in Room 104 (Bible Study)\nOther activities may include luncheons and “game days”\, tours in adjacent cities\, and touring local attractions.
URL:https://parkhills.org/eventcalendar/young-at-heart-2-2/2028-11-02/
LOCATION:Parkhills Baptist Church\, 17747 San Pedro Ave\, San Antonio\, TX\, 78232
CATEGORIES:Adults
END:VEVENT
BEGIN:VEVENT
DTSTART;TZID=UTC:20281109T103000
DTEND;TZID=UTC:20281109T120000
DTSTAMP:20260425T232444
CREATED:20251023T150526Z
LAST-MODIFIED:20251023T150528Z
UID:10001224-1857378600-1857384000@parkhills.org
SUMMARY:Young At Heart (55+)
DESCRIPTION:Every Thursday @ 10:30 AM in Room 104 (Bible Study)\nOther activities may include luncheons and “game days”\, tours in adjacent cities\, and touring local attractions.
URL:https://parkhills.org/eventcalendar/young-at-heart-2-2/2028-11-09/
LOCATION:Parkhills Baptist Church\, 17747 San Pedro Ave\, San Antonio\, TX\, 78232
CATEGORIES:Adults
END:VEVENT
BEGIN:VEVENT
DTSTART;TZID=UTC:20281116T103000
DTEND;TZID=UTC:20281116T120000
DTSTAMP:20260425T232444
CREATED:20251023T150526Z
LAST-MODIFIED:20251023T150528Z
UID:10001225-1857983400-1857988800@parkhills.org
SUMMARY:Young At Heart (55+)
DESCRIPTION:Every Thursday @ 10:30 AM in Room 104 (Bible Study)\nOther activities may include luncheons and “game days”\, tours in adjacent cities\, and touring local attractions.
URL:https://parkhills.org/eventcalendar/young-at-heart-2-2/2028-11-16/
LOCATION:Parkhills Baptist Church\, 17747 San Pedro Ave\, San Antonio\, TX\, 78232
CATEGORIES:Adults
END:VEVENT
BEGIN:VEVENT
DTSTART;TZID=UTC:20281123T103000
DTEND;TZID=UTC:20281123T120000
DTSTAMP:20260425T232444
CREATED:20251023T150526Z
LAST-MODIFIED:20251023T150528Z
UID:10001226-1858588200-1858593600@parkhills.org
SUMMARY:Young At Heart (55+)
DESCRIPTION:Every Thursday @ 10:30 AM in Room 104 (Bible Study)\nOther activities may include luncheons and “game days”\, tours in adjacent cities\, and touring local attractions.
URL:https://parkhills.org/eventcalendar/young-at-heart-2-2/2028-11-23/
LOCATION:Parkhills Baptist Church\, 17747 San Pedro Ave\, San Antonio\, TX\, 78232
CATEGORIES:Adults
END:VEVENT
BEGIN:VEVENT
DTSTART;TZID=UTC:20281130T103000
DTEND;TZID=UTC:20281130T120000
DTSTAMP:20260425T232444
CREATED:20251023T150526Z
LAST-MODIFIED:20251023T150528Z
UID:10001227-1859193000-1859198400@parkhills.org
SUMMARY:Young At Heart (55+)
DESCRIPTION:Every Thursday @ 10:30 AM in Room 104 (Bible Study)\nOther activities may include luncheons and “game days”\, tours in adjacent cities\, and touring local attractions.
URL:https://parkhills.org/eventcalendar/young-at-heart-2-2/2028-11-30/
LOCATION:Parkhills Baptist Church\, 17747 San Pedro Ave\, San Antonio\, TX\, 78232
CATEGORIES:Adults
END:VEVENT
BEGIN:VEVENT
DTSTART;TZID=UTC:20281207T103000
DTEND;TZID=UTC:20281207T120000
DTSTAMP:20260425T232444
CREATED:20251023T150526Z
LAST-MODIFIED:20251023T150528Z
UID:10001228-1859797800-1859803200@parkhills.org
SUMMARY:Young At Heart (55+)
DESCRIPTION:Every Thursday @ 10:30 AM in Room 104 (Bible Study)\nOther activities may include luncheons and “game days”\, tours in adjacent cities\, and touring local attractions.
URL:https://parkhills.org/eventcalendar/young-at-heart-2-2/2028-12-07/
LOCATION:Parkhills Baptist Church\, 17747 San Pedro Ave\, San Antonio\, TX\, 78232
CATEGORIES:Adults
END:VEVENT
BEGIN:VEVENT
DTSTART;TZID=UTC:20281214T103000
DTEND;TZID=UTC:20281214T120000
DTSTAMP:20260425T232444
CREATED:20251023T150526Z
LAST-MODIFIED:20251023T150528Z
UID:10001229-1860402600-1860408000@parkhills.org
SUMMARY:Young At Heart (55+)
DESCRIPTION:Every Thursday @ 10:30 AM in Room 104 (Bible Study)\nOther activities may include luncheons and “game days”\, tours in adjacent cities\, and touring local attractions.
URL:https://parkhills.org/eventcalendar/young-at-heart-2-2/2028-12-14/
LOCATION:Parkhills Baptist Church\, 17747 San Pedro Ave\, San Antonio\, TX\, 78232
CATEGORIES:Adults
END:VEVENT
BEGIN:VEVENT
DTSTART;TZID=UTC:20281221T103000
DTEND;TZID=UTC:20281221T120000
DTSTAMP:20260425T232444
CREATED:20251023T150526Z
LAST-MODIFIED:20251023T150528Z
UID:10001230-1861007400-1861012800@parkhills.org
SUMMARY:Young At Heart (55+)
DESCRIPTION:Every Thursday @ 10:30 AM in Room 104 (Bible Study)\nOther activities may include luncheons and “game days”\, tours in adjacent cities\, and touring local attractions.
URL:https://parkhills.org/eventcalendar/young-at-heart-2-2/2028-12-21/
LOCATION:Parkhills Baptist Church\, 17747 San Pedro Ave\, San Antonio\, TX\, 78232
CATEGORIES:Adults
END:VEVENT
BEGIN:VEVENT
DTSTART;TZID=UTC:20281228T103000
DTEND;TZID=UTC:20281228T120000
DTSTAMP:20260425T232444
CREATED:20251023T150526Z
LAST-MODIFIED:20251023T150528Z
UID:10001231-1861612200-1861617600@parkhills.org
SUMMARY:Young At Heart (55+)
DESCRIPTION:Every Thursday @ 10:30 AM in Room 104 (Bible Study)\nOther activities may include luncheons and “game days”\, tours in adjacent cities\, and touring local attractions.
URL:https://parkhills.org/eventcalendar/young-at-heart-2-2/2028-12-28/
LOCATION:Parkhills Baptist Church\, 17747 San Pedro Ave\, San Antonio\, TX\, 78232
CATEGORIES:Adults
END:VEVENT
BEGIN:VEVENT
DTSTART;TZID=UTC:20290104T103000
DTEND;TZID=UTC:20290104T120000
DTSTAMP:20260425T232444
CREATED:20251023T150526Z
LAST-MODIFIED:20251023T150528Z
UID:10001232-1862217000-1862222400@parkhills.org
SUMMARY:Young At Heart (55+)
DESCRIPTION:Every Thursday @ 10:30 AM in Room 104 (Bible Study)\nOther activities may include luncheons and “game days”\, tours in adjacent cities\, and touring local attractions.
URL:https://parkhills.org/eventcalendar/young-at-heart-2-2/2029-01-04/
LOCATION:Parkhills Baptist Church\, 17747 San Pedro Ave\, San Antonio\, TX\, 78232
CATEGORIES:Adults
END:VEVENT
BEGIN:VEVENT
DTSTART;TZID=UTC:20290111T103000
DTEND;TZID=UTC:20290111T120000
DTSTAMP:20260425T232444
CREATED:20251023T150526Z
LAST-MODIFIED:20251023T150528Z
UID:10001233-1862821800-1862827200@parkhills.org
SUMMARY:Young At Heart (55+)
DESCRIPTION:Every Thursday @ 10:30 AM in Room 104 (Bible Study)\nOther activities may include luncheons and “game days”\, tours in adjacent cities\, and touring local attractions.
URL:https://parkhills.org/eventcalendar/young-at-heart-2-2/2029-01-11/
LOCATION:Parkhills Baptist Church\, 17747 San Pedro Ave\, San Antonio\, TX\, 78232
CATEGORIES:Adults
END:VEVENT
BEGIN:VEVENT
DTSTART;TZID=UTC:20290118T103000
DTEND;TZID=UTC:20290118T120000
DTSTAMP:20260425T232444
CREATED:20251023T150526Z
LAST-MODIFIED:20251023T150528Z
UID:10001234-1863426600-1863432000@parkhills.org
SUMMARY:Young At Heart (55+)
DESCRIPTION:Every Thursday @ 10:30 AM in Room 104 (Bible Study)\nOther activities may include luncheons and “game days”\, tours in adjacent cities\, and touring local attractions.
URL:https://parkhills.org/eventcalendar/young-at-heart-2-2/2029-01-18/
LOCATION:Parkhills Baptist Church\, 17747 San Pedro Ave\, San Antonio\, TX\, 78232
CATEGORIES:Adults
END:VEVENT
BEGIN:VEVENT
DTSTART;TZID=UTC:20290125T103000
DTEND;TZID=UTC:20290125T120000
DTSTAMP:20260425T232444
CREATED:20251023T150526Z
LAST-MODIFIED:20251023T150528Z
UID:10001235-1864031400-1864036800@parkhills.org
SUMMARY:Young At Heart (55+)
DESCRIPTION:Every Thursday @ 10:30 AM in Room 104 (Bible Study)\nOther activities may include luncheons and “game days”\, tours in adjacent cities\, and touring local attractions.
URL:https://parkhills.org/eventcalendar/young-at-heart-2-2/2029-01-25/
LOCATION:Parkhills Baptist Church\, 17747 San Pedro Ave\, San Antonio\, TX\, 78232
CATEGORIES:Adults
END:VEVENT
BEGIN:VEVENT
DTSTART;TZID=UTC:20290201T103000
DTEND;TZID=UTC:20290201T120000
DTSTAMP:20260425T232444
CREATED:20251023T150526Z
LAST-MODIFIED:20251023T150528Z
UID:10001236-1864636200-1864641600@parkhills.org
SUMMARY:Young At Heart (55+)
DESCRIPTION:Every Thursday @ 10:30 AM in Room 104 (Bible Study)\nOther activities may include luncheons and “game days”\, tours in adjacent cities\, and touring local attractions.
URL:https://parkhills.org/eventcalendar/young-at-heart-2-2/2029-02-01/
LOCATION:Parkhills Baptist Church\, 17747 San Pedro Ave\, San Antonio\, TX\, 78232
CATEGORIES:Adults
END:VEVENT
BEGIN:VEVENT
DTSTART;TZID=UTC:20290208T103000
DTEND;TZID=UTC:20290208T120000
DTSTAMP:20260425T232444
CREATED:20251023T150526Z
LAST-MODIFIED:20251023T150528Z
UID:10001237-1865241000-1865246400@parkhills.org
SUMMARY:Young At Heart (55+)
DESCRIPTION:Every Thursday @ 10:30 AM in Room 104 (Bible Study)\nOther activities may include luncheons and “game days”\, tours in adjacent cities\, and touring local attractions.
URL:https://parkhills.org/eventcalendar/young-at-heart-2-2/2029-02-08/
LOCATION:Parkhills Baptist Church\, 17747 San Pedro Ave\, San Antonio\, TX\, 78232
CATEGORIES:Adults
END:VEVENT
BEGIN:VEVENT
DTSTART;TZID=UTC:20290215T103000
DTEND;TZID=UTC:20290215T120000
DTSTAMP:20260425T232444
CREATED:20251023T150526Z
LAST-MODIFIED:20251023T150528Z
UID:10001238-1865845800-1865851200@parkhills.org
SUMMARY:Young At Heart (55+)
DESCRIPTION:Every Thursday @ 10:30 AM in Room 104 (Bible Study)\nOther activities may include luncheons and “game days”\, tours in adjacent cities\, and touring local attractions.
URL:https://parkhills.org/eventcalendar/young-at-heart-2-2/2029-02-15/
LOCATION:Parkhills Baptist Church\, 17747 San Pedro Ave\, San Antonio\, TX\, 78232
CATEGORIES:Adults
END:VEVENT
BEGIN:VEVENT
DTSTART;TZID=UTC:20290222T103000
DTEND;TZID=UTC:20290222T120000
DTSTAMP:20260425T232444
CREATED:20251023T150526Z
LAST-MODIFIED:20251023T150528Z
UID:10001239-1866450600-1866456000@parkhills.org
SUMMARY:Young At Heart (55+)
DESCRIPTION:Every Thursday @ 10:30 AM in Room 104 (Bible Study)\nOther activities may include luncheons and “game days”\, tours in adjacent cities\, and touring local attractions.
URL:https://parkhills.org/eventcalendar/young-at-heart-2-2/2029-02-22/
LOCATION:Parkhills Baptist Church\, 17747 San Pedro Ave\, San Antonio\, TX\, 78232
CATEGORIES:Adults
END:VEVENT
BEGIN:VEVENT
DTSTART;TZID=UTC:20290301T103000
DTEND;TZID=UTC:20290301T120000
DTSTAMP:20260425T232444
CREATED:20251023T150526Z
LAST-MODIFIED:20251023T150528Z
UID:10001240-1867055400-1867060800@parkhills.org
SUMMARY:Young At Heart (55+)
DESCRIPTION:Every Thursday @ 10:30 AM in Room 104 (Bible Study)\nOther activities may include luncheons and “game days”\, tours in adjacent cities\, and touring local attractions.
URL:https://parkhills.org/eventcalendar/young-at-heart-2-2/2029-03-01/
LOCATION:Parkhills Baptist Church\, 17747 San Pedro Ave\, San Antonio\, TX\, 78232
CATEGORIES:Adults
END:VEVENT
BEGIN:VEVENT
DTSTART;TZID=UTC:20290308T103000
DTEND;TZID=UTC:20290308T120000
DTSTAMP:20260425T232444
CREATED:20251023T150526Z
LAST-MODIFIED:20251023T150528Z
UID:10001241-1867660200-1867665600@parkhills.org
SUMMARY:Young At Heart (55+)
DESCRIPTION:Every Thursday @ 10:30 AM in Room 104 (Bible Study)\nOther activities may include luncheons and “game days”\, tours in adjacent cities\, and touring local attractions.
URL:https://parkhills.org/eventcalendar/young-at-heart-2-2/2029-03-08/
LOCATION:Parkhills Baptist Church\, 17747 San Pedro Ave\, San Antonio\, TX\, 78232
CATEGORIES:Adults
END:VEVENT
END:VCALENDAR