BEGIN:VCALENDAR
VERSION:2.0
PRODID:-//Parkhills Baptist Church - ECPv6.15.12.2//NONSGML v1.0//EN
CALSCALE:GREGORIAN
METHOD:PUBLISH
X-WR-CALNAME:Parkhills Baptist Church
X-ORIGINAL-URL:https://parkhills.org
X-WR-CALDESC:Events for Parkhills Baptist Church
REFRESH-INTERVAL;VALUE=DURATION:PT1H
X-Robots-Tag:noindex
X-PUBLISHED-TTL:PT1H
BEGIN:VTIMEZONE
TZID:UTC
BEGIN:STANDARD
TZOFFSETFROM:+0000
TZOFFSETTO:+0000
TZNAME:UTC
DTSTART:20250101T000000
END:STANDARD
END:VTIMEZONE
BEGIN:VEVENT
DTSTART;TZID=UTC:20260506T180000
DTEND;TZID=UTC:20260506T183000
DTSTAMP:20260424T012554
CREATED:20260112T160725Z
LAST-MODIFIED:20260112T160725Z
UID:10001424-1778090400-1778092200@parkhills.org
SUMMARY:Quarterly Members' Meeting
DESCRIPTION:
URL:https://parkhills.org/eventcalendar/quarterly-members-meeting/2026-05-06/
LOCATION:Parkhills Baptist Church\, 17747 San Pedro Ave\, San Antonio\, TX\, 78232
CATEGORIES:Adults
END:VEVENT
BEGIN:VEVENT
DTSTART;TZID=UTC:20260805T180000
DTEND;TZID=UTC:20260805T183000
DTSTAMP:20260424T012554
CREATED:20260112T160725Z
LAST-MODIFIED:20260112T160725Z
UID:10001425-1785952800-1785954600@parkhills.org
SUMMARY:Quarterly Members' Meeting
DESCRIPTION:
URL:https://parkhills.org/eventcalendar/quarterly-members-meeting/2026-08-05/
LOCATION:Parkhills Baptist Church\, 17747 San Pedro Ave\, San Antonio\, TX\, 78232
CATEGORIES:Adults
END:VEVENT
BEGIN:VEVENT
DTSTART;TZID=UTC:20261104T180000
DTEND;TZID=UTC:20261104T183000
DTSTAMP:20260424T012554
CREATED:20260112T160725Z
LAST-MODIFIED:20260112T160725Z
UID:10001426-1793815200-1793817000@parkhills.org
SUMMARY:Quarterly Members' Meeting
DESCRIPTION:
URL:https://parkhills.org/eventcalendar/quarterly-members-meeting/2026-11-04/
LOCATION:Parkhills Baptist Church\, 17747 San Pedro Ave\, San Antonio\, TX\, 78232
CATEGORIES:Adults
END:VEVENT
END:VCALENDAR