BEGIN:VCALENDAR
VERSION:2.0
PRODID:-//Parkhills Baptist Church - ECPv6.15.12.2//NONSGML v1.0//EN
CALSCALE:GREGORIAN
METHOD:PUBLISH
X-WR-CALNAME:Parkhills Baptist Church
X-ORIGINAL-URL:https://parkhills.org
X-WR-CALDESC:Events for Parkhills Baptist Church
REFRESH-INTERVAL;VALUE=DURATION:PT1H
X-Robots-Tag:noindex
X-PUBLISHED-TTL:PT1H
BEGIN:VTIMEZONE
TZID:UTC
BEGIN:STANDARD
TZOFFSETFROM:+0000
TZOFFSETTO:+0000
TZNAME:UTC
DTSTART:20240101T000000
END:STANDARD
END:VTIMEZONE
BEGIN:VEVENT
DTSTART;TZID=UTC:20250617T090000
DTEND;TZID=UTC:20250617T140000
DTSTAMP:20260422T192854
CREATED:20250422T155831Z
LAST-MODIFIED:20250422T161905Z
UID:10000011-1750150800-1750168800@parkhills.org
SUMMARY:PARENTS DAY OUT
DESCRIPTION:PARENTS’ DAY OUT (formerly Summer Fun Days) Coming This Summer!\nFor Kids 1 Year Old Through Completed 5th Grade \nJoin your friends for a great day of GAMES\, ACTIVITIES and FUN right here at Parkhills Baptist Church! Bring a sack lunch and clothes for outdoors\, and we’ll provide everything else. Parents\, you’ll receive info about each day’s activity before the scheduled Parents’ Day Out. \nCLICK HERE TO REGISTER FOR JUNE 17th  \nCLICK HERE TO REGISTER FOR JULY 29th
URL:https://parkhills.org/eventcalendar/parents-day-out/2025-06-17/
ATTACH;FMTTYPE=image/png:https://parkhills.org/wp-content/uploads/2025/04/Untitled-design-17-scaled.png
END:VEVENT
END:VCALENDAR