BEGIN:VCALENDAR
VERSION:2.0
PRODID:-//Parkhills Baptist Church - ECPv6.15.12.2//NONSGML v1.0//EN
CALSCALE:GREGORIAN
METHOD:PUBLISH
X-WR-CALNAME:Parkhills Baptist Church
X-ORIGINAL-URL:https://parkhills.org
X-WR-CALDESC:Events for Parkhills Baptist Church
REFRESH-INTERVAL;VALUE=DURATION:PT1H
X-Robots-Tag:noindex
X-PUBLISHED-TTL:PT1H
BEGIN:VTIMEZONE
TZID:UTC
BEGIN:STANDARD
TZOFFSETFROM:+0000
TZOFFSETTO:+0000
TZNAME:UTC
DTSTART:20250101T000000
END:STANDARD
END:VTIMEZONE
BEGIN:VEVENT
DTSTART;TZID=UTC:20260118T083000
DTEND;TZID=UTC:20260118T093000
DTSTAMP:20260419T192002
CREATED:20260107T203126Z
LAST-MODIFIED:20260107T203126Z
UID:10001416-1768725000-1768728600@parkhills.org
SUMMARY:Connect & Cook
DESCRIPTION:  \n 
URL:https://parkhills.org/eventcalendar/connect-cook/2026-01-18/
LOCATION:Parkhills Baptist Church\, 17747 San Pedro Ave\, San Antonio\, TX\, 78232
END:VEVENT
END:VCALENDAR